Workbook
Name Reversed_and_Sorted_Voltage_to_State_of_Charge_Table: 'Tool-data'!$X$2:$Y$13

Sheet Fishfinder tool
C2: Choose you language: | D2: EN
C3: {=_xlfn.IFS($D$2='Tool-data'!$U$4,W3,$D$2='Tool-data'!$U$3,M3,$D$2='Tool-data'!$U$5,AG3)} -> De Rebelcell Fishfinder Battery Tool | M3: De Rebelcell Fishfinder Battery Tool | W3: De Rebelcell Fishfinder Accu tool | AG3: Das Rebelcell Echolot- Batterie Tool
C4: {=_xlfn.IFS($D$2='Tool-data'!$U$4,W4,$D$2='Tool-data'!$U$3,M4,$D$2='Tool-data'!$U$5,AG4)} -> Find the right Rebelcell battery for your on-board equipment | M4: Find the right Rebelcell battery for your on-board equipment | W4: Vind de juiste Rebelcell accu voor uw apparatuur aan boord | AG4: Finden Sie die richtige Rebelcell-Batterie für Ihre Ausrüstung an Bord
C6: {=_xlfn.IFS($D$2='Tool-data'!$U$4,W6,$D$2='Tool-data'!$U$3,M6,$D$2='Tool-data'!$U$5,AG6)} -> This tool is designed to help you choose the right Rebelcell battery for your on-board equipment | M6: This tool is designed to help you choose the right Rebelcell battery for your on-board equipment | W6: Deze tool is ontwikkeld om de juiste Rebelcell accu voor uw apparatuur aan boord te kiezen | AG6: Dieses Tool soll Ihnen helfen, die richtige Rebelcell-Batterie für Ihre Ausrüstung an Bord zu finden
C7: {=_xlfn.IFS($D$2='Tool-data'!$U$4,W7,$D$2='Tool-data'!$U$3,M7,$D$2='Tool-data'!$U$5,AG7)} -> In the grey cells, choose which equipment you have on board. | M7: In the grey cells, choose which equipment you have on board. | W7: Kies in de grijze cellen welke apparatuur u aan boord heeft. | AG7: Wählen Sie in den grauen Feldern aus, welche Ausrüstung Sie an Bord haben.
C8: {=_xlfn.IFS($D$2='Tool-data'!$U$4,W8,$D$2='Tool-data'!$U$3,M8,$D$2='Tool-data'!$U$5,AG8)} -> In the table below, the green cells show the total runtime per battery | M8: In the table below, the green cells show the total runtime per battery | W8: In de tabel onderaan vindt u in de groene cellen de totale gebruikstijd per accu | AG8: In der Tabelle unten zeigen die grünen Zellen die Gesamtnutzungsdauer pro Batterie an.
C9: {=_xlfn.IFS($D$2='Tool-data'!$U$4,W9,$D$2='Tool-data'!$U$3,M9,$D$2='Tool-data'!$U$5,AG9)} -> Is your equipment not listed? Please check the following tab | M9: Is your equipment not listed? Please check the following tab | W9: Staat uw apparatuur er niet bij? Kijk dan op het volgende Tabblad | AG9: Ist Ihre Ausrüstung nicht aufgeführt? Prüfen Sie die folgende Registerkarte
C11: {=_xlfn.IFS($D$2='Tool-data'!$U$4,W11,$D$2='Tool-data'!$U$3,M11,$D$2='Tool-data'!$U$5,AG11)} -> Choose the screens/devices you want to connect below (Max 15) | M11: Choose the screens/devices you want to connect below (Max 15) | W11: Kies hieronder de schermen/apparaten die u wilt aansluiten (Max 15) | AG11: Wählen Sie unten die Bildschirme/Geräte aus, die Sie anschließen möchten (maximal 15)
C12: {=_xlfn.IFS($D$2='Tool-data'!$U$4,W12,$D$2='Tool-data'!$U$3,M12,$D$2='Tool-data'!$U$5,AG12)} -> Options | D12: {=_xlfn.IFS($D$2='Tool-data'!$U$4,X12,$D$2='Tool-data'!$U$3,N12,$D$2='Tool-data'!$U$5,AH12)} -> Min | E12: {=_xlfn.IFS($D$2='Tool-data'!$U$4,Y12,$D$2='Tool-data'!$U$3,O12,$D$2='Tool-data'!$U$5,AI12)} -> Max | F12: {=_xlfn.IFS($D$2='Tool-data'!$U$4,Z12,$D$2='Tool-data'!$U$3,P12,$D$2='Tool-data'!$U$5,AJ12)} -> Watt | M12: Options | N12: Min | O12: Max | P12: Watt | W12: Opties | X12: Min | Y12: Max | Z12: Watt | AG12: Optionen | AH12: Min | AI12: Max | AJ12: Watt
B13: 1 | D13: =IFERROR(VLOOKUP($C13,'Tool-data'!$B$3:$F$300,2,FALSE),"") | E13: =IFERROR(VLOOKUP($C13,'Tool-data'!$B$3:$F$300,3,FALSE),"") | F13: =IFERROR(VLOOKUP($C13,'Tool-data'!$B$3:$F$300,5,FALSE),"") | M13: =C13 -> 0 | N13: =D13 | O13: =E13 | P13: =F13 | W13: =C13 -> 0 | X13: =D13 | Y13: =E13 | Z13: =F13 | AG13: =C13 -> 0 | AH13: =D13 | AI13: =E13 | AJ13: =F13
B14: 2 | D14: =IFERROR(VLOOKUP($C14,'Tool-data'!$B$3:$F$166,2,FALSE),"") | E14: =IFERROR(VLOOKUP($C14,'Tool-data'!$B$3:$F$166,3,FALSE),"") | F14: =IFERROR(VLOOKUP($C14,'Tool-data'!$B$3:$F$166,5,FALSE),"") | M14: =C14 -> 0 | N14: =D14 | O14: =E14 | P14: =F14 | W14: =C14 -> 0 | X14: =D14 | Y14: =E14 | Z14: =F14 | AG14: =C14 -> 0 | AH14: =D14 | AI14: =E14 | AJ14: =F14
B15: 3 | D15: =IFERROR(VLOOKUP($C15,'Tool-data'!$B$3:$F$166,2,FALSE),"") | E15: =IFERROR(VLOOKUP($C15,'Tool-data'!$B$3:$F$166,3,FALSE),"") | F15: =IFERROR(VLOOKUP($C15,'Tool-data'!$B$3:$F$166,5,FALSE),"") | M15: =C15 -> 0 | N15: =D15 | O15: =E15 | P15: =F15 | W15: =C15 -> 0 | X15: =D15 | Y15: =E15 | Z15: =F15 | AG15: =C15 -> 0 | AH15: =D15 | AI15: =E15 | AJ15: =F15
B16: 4 | D16: =IFERROR(VLOOKUP($C16,'Tool-data'!$B$3:$F$166,2,FALSE),"") | E16: =IFERROR(VLOOKUP($C16,'Tool-data'!$B$3:$F$166,3,FALSE),"") | F16: =IFERROR(VLOOKUP($C16,'Tool-data'!$B$3:$F$166,5,FALSE),"") | M16: =C16 -> 0 | N16: =D16 | O16: =E16 | P16: =F16 | W16: =C16 -> 0 | X16: =D16 | Y16: =E16 | Z16: =F16 | AG16: =C16 -> 0 | AH16: =D16 | AI16: =E16 | AJ16: =F16
B17: 5 | D17: =IFERROR(VLOOKUP($C17,'Tool-data'!$B$3:$F$166,2,FALSE),"") | E17: =IFERROR(VLOOKUP($C17,'Tool-data'!$B$3:$F$166,3,FALSE),"") | F17: =IFERROR(VLOOKUP($C17,'Tool-data'!$B$3:$F$166,5,FALSE),"") | M17: =C17 -> 0 | N17: =D17 | O17: =E17 | P17: =F17 | W17: =C17 -> 0 | X17: =D17 | Y17: =E17 | Z17: =F17 | AG17: =C17 -> 0 | AH17: =D17 | AI17: =E17 | AJ17: =F17
B18: 6 | D18: =IFERROR(VLOOKUP($C18,'Tool-data'!$B$3:$F$166,2,FALSE),"") | E18: =IFERROR(VLOOKUP($C18,'Tool-data'!$B$3:$F$166,3,FALSE),"") | F18: =IFERROR(VLOOKUP($C18,'Tool-data'!$B$3:$F$166,5,FALSE),"")
B19: 7 | D19: =IFERROR(VLOOKUP($C19,'Tool-data'!$B$3:$F$166,2,FALSE),"") | E19: =IFERROR(VLOOKUP($C19,'Tool-data'!$B$3:$F$166,3,FALSE),"") | F19: =IFERROR(VLOOKUP($C19,'Tool-data'!$B$3:$F$166,5,FALSE),"")
B20: 8 | D20: =IFERROR(VLOOKUP($C20,'Tool-data'!$B$3:$F$166,2,FALSE),"") | E20: =IFERROR(VLOOKUP($C20,'Tool-data'!$B$3:$F$166,3,FALSE),"") | F20: =IFERROR(VLOOKUP($C20,'Tool-data'!$B$3:$F$166,5,FALSE),"")
B21: 9 | D21: =IFERROR(VLOOKUP($C21,'Tool-data'!$B$3:$F$166,2,FALSE),"") | E21: =IFERROR(VLOOKUP($C21,'Tool-data'!$B$3:$F$166,3,FALSE),"") | F21: =IFERROR(VLOOKUP($C21,'Tool-data'!$B$3:$F$166,5,FALSE),"")
B22: 10 | D22: =IFERROR(VLOOKUP($C22,'Tool-data'!$B$3:$F$166,2,FALSE),"") | E22: =IFERROR(VLOOKUP($C22,'Tool-data'!$B$3:$F$166,3,FALSE),"") | F22: =IFERROR(VLOOKUP($C22,'Tool-data'!$B$3:$F$166,5,FALSE),"")
B23: 11 | D23: =IFERROR(VLOOKUP($C23,'Tool-data'!$B$3:$F$166,2,FALSE),"") | E23: =IFERROR(VLOOKUP($C23,'Tool-data'!$B$3:$F$166,3,FALSE),"") | F23: =IFERROR(VLOOKUP($C23,'Tool-data'!$B$3:$F$166,5,FALSE),"")
B24: 12 | D24: =IFERROR(VLOOKUP($C24,'Tool-data'!$B$3:$F$166,2,FALSE),"") | E24: =IFERROR(VLOOKUP($C24,'Tool-data'!$B$3:$F$166,3,FALSE),"") | F24: =IFERROR(VLOOKUP($C24,'Tool-data'!$B$3:$F$166,5,FALSE),"")
B25: 13 | D25: =IFERROR(VLOOKUP($C25,'Tool-data'!$B$3:$F$166,2,FALSE),"") | E25: =IFERROR(VLOOKUP($C25,'Tool-data'!$B$3:$F$166,3,FALSE),"") | F25: =IFERROR(VLOOKUP($C25,'Tool-data'!$B$3:$F$166,5,FALSE),"")
B26: 14 | D26: =IFERROR(VLOOKUP($C26,'Tool-data'!$B$3:$F$166,2,FALSE),"") | E26: =IFERROR(VLOOKUP($C26,'Tool-data'!$B$3:$F$166,3,FALSE),"") | F26: =IFERROR(VLOOKUP($C26,'Tool-data'!$B$3:$F$166,5,FALSE),"")
B27: 15 | D27: =IFERROR(VLOOKUP($C27,'Tool-data'!$B$3:$F$166,2,FALSE),"") | E27: =IFERROR(VLOOKUP($C27,'Tool-data'!$B$3:$F$166,3,FALSE),"") | F27: =IFERROR(VLOOKUP($C27,'Tool-data'!$B$3:$F$166,5,FALSE),"")
C29: {=_xlfn.IFS($D$2='Tool-data'!$U$4,W29,$D$2='Tool-data'!$U$3,M29,$D$2='Tool-data'!$U$5,AG29)} -> What is the minimum desired runtime in hours? | M29: What is the minimum desired runtime in hours? | W29: Wat is de minimale gewenste gebruikstijd in uren? | AG29: Was ist die gewünschte Mindestnutzungsdauer in Stunden?
M30: =C30 -> 0 | W30: =C30 -> 0 | AG30: =C30 -> 0
S31: H | T31: battery | AB31: H | AC31: battery | AL31: H | AM31: battery
C32: {=_xlfn.IFS($D$2='Tool-data'!$U$4,W32,$D$2='Tool-data'!$U$3,M32,$D$2='Tool-data'!$U$5,AG32)} | M32: =IFERROR(IF(ISBLANK(C30),"",CONCATENATE("We recommend the ",T32," ",U32)),"") | S32: {=MIN(IF(U41:U50>M30, U41:U50))} -> #N/A | T32: =_xlfn.XLOOKUP(S32,U41:U50,M41:M50,"",0,1) -> #N/A | U32: =IF(_xlfn.XLOOKUP(S32,U41:U50,T41:T50,"",0,1)="No","without stabilizer","with stabilizer") -> #N/A | W32: =IFERROR(IF(ISBLANK(C30),"",CONCATENATE("Wij raden de ",AC32," aan ",AD32)),"") | AB32: {=MIN(IF(AE41:AE50>W30, AE41:AE50))} -> #N/A | AC32: =_xlfn.XLOOKUP(AB32,AE41:AE50,W41:W50,"",0,1) -> #N/A | AD32: =IF(_xlfn.XLOOKUP(AB32,AE41:AE50,AD41:AD50,"",0,1)="Nee","zonder stabilisator","met stabilisator") -> #N/A | AG32: =IF(ISBLANK(C30),"",CONCATENATE("Wir empfehlen die ",AM32," ",AN32)) | AL32: {=MIN(IF(AO41:AO50>AG30, AO41:AO50))} -> #N/A | AM32: =_xlfn.XLOOKUP(AL32,AO41:AO50,AG41:AG50,"",0,1) -> #N/A | AN32: =IF(_xlfn.XLOOKUP(AL32,AO41:AO50,AN41:AN50,"",0,1)="Nein","ohne Stabilisator","mit Stabilisator") -> #N/A
C33: {=_xlfn.IFS($D$2='Tool-data'!$U$4,W33,$D$2='Tool-data'!$U$3,M33,$D$2='Tool-data'!$U$5,AG33)} | M33: =IFERROR(IF(ISBLANK(C30),"",CONCATENATE("With this you have a runtime of ",ROUND(S32,1)," hour.")),"") | W33: =IFERROR(IF(ISBLANK(C30),"",CONCATENATE("Hiermee heeft u een gebruikstijd van ",ROUND(AB32,1)," uur.")),"") | AG33: =IFERROR(IF(ISBLANK(C30),"",CONCATENATE("Dies ergibt eine Nutzungsdauer von ",ROUND(AL32,1)," Stunden.")),"")
C35: {=_xlfn.IFS($D$2='Tool-data'!$U$4,W35,$D$2='Tool-data'!$U$3,M35,$D$2='Tool-data'!$U$5,AG35)} -> Minimum input voltage | D35: =MAX(D13:D27) -> 0 | M35: Minimum input voltage | N35: =MAX(N13:N17) -> 0 | W35: Minimaal ingangsvoltage | X35: =MAX(X13:X17) -> 0 | AG35: Minimale Eingangsspannung | AO35: Nein
C36: {=_xlfn.IFS($D$2='Tool-data'!$U$4,W36,$D$2='Tool-data'!$U$3,M36,$D$2='Tool-data'!$U$5,AG36)} -> Maximum input voltage | D36: =MIN(E13:E27) -> 0 | M36: Maximum input voltage | N36: =MIN(O13:O17) -> 0 | W36: Maximaal ingansvoltage | X36: =MIN(Y13:Y17) -> 0 | AG36: Maximale Eingangsspannung | AO36: Empfohlen
C37: {=_xlfn.IFS($D$2='Tool-data'!$U$4,W37,$D$2='Tool-data'!$U$3,M37,$D$2='Tool-data'!$U$5,AG37)} -> Total power consumption in W | D37: =SUM(F13:F27) -> 0 | M37: Total power consumption in W | N37: =SUM(P13:P17) -> 0 | W37: Totaal verbruik in W | X37: =SUM(Z13:Z17) -> 0 | AG37: Gesamtverbrauch in W | AO37: Nötig
C40: {=_xlfn.IFS($D$2='Tool-data'!$U$4,W40,$D$2='Tool-data'!$U$3,M40,$D$2='Tool-data'!$U$5,AG40)} -> Runtime per battery | D40: {=_xlfn.IFS($D$2='Tool-data'!$U$4,X40,$D$2='Tool-data'!$U$3,N40,$D$2='Tool-data'!$U$5,AH40)} -> Min | E40: {=_xlfn.IFS($D$2='Tool-data'!$U$4,Y40,$D$2='Tool-data'!$U$3,O40,$D$2='Tool-data'!$U$5,AI40)} -> Max | F40: {=_xlfn.IFS($D$2='Tool-data'!$U$4,Z40,$D$2='Tool-data'!$U$3,P40,$D$2='Tool-data'!$U$5,AJ40)} -> Wh | G40: {=_xlfn.IFS($D$2='Tool-data'!$U$4,AA40,$D$2='Tool-data'!$U$3,Q40,$D$2='Tool-data'!$U$5,AK40)} -> Voltage gets below minimum at | H40: {=_xlfn.IFS($D$2='Tool-data'!$U$4,AB40,$D$2='Tool-data'!$U$3,R40,$D$2='Tool-data'!$U$5,AL40)} -> Runtime without stabilizer | I40: {=_xlfn.IFS($D$2='Tool-data'!$U$4,AC40,$D$2='Tool-data'!$U$3,S40,$D$2='Tool-data'!$U$5,AM40)} -> Runtime with stabilizer | J40: {=_xlfn.IFS($D$2='Tool-data'!$U$4,AD40,$D$2='Tool-data'!$U$3,T40,$D$2='Tool-data'!$U$5,AN40)} -> Stabilizer necessary or recommended? | M40: Runtime per battery | N40: Min | O40: Max | P40: Wh | Q40: Voltage gets below minimum at | R40: Runtime without stabilizer | S40: Runtime with stabilizer | T40: Stabilizer necessary or recommended? | U40: Time | W40: Gebruikstijd per accu | X40: Min | Y40: Max | Z40: Wh | AA40: Voltage komt onder minimum bij | AB40: Gebruikstijd zonder stabilisator | AC40: Gebruikstijd met stabilisator | AD40: Stabilisator noodzakelijk of aanbeloven? | AE40: Time | AG40: Nutzungsdauer pro Batterie | AH40: Min | AI40: Max | AJ40: Wh | AK40: Die Spannung fällt unter das Minimum bei | AL40: Betriebszeit ohne Stabilisator | AM40: Betriebszeit mit Stabilisator | AN40: Stabilisator erforderlich oder empfohlen? | AO40: Time
C41: Power Rebel 48K | D41: 10 | E41: 13.6 | F41: 153.6 | G41: =IF($D$35>D41,IFERROR(VLOOKUP($D$35,'Tool-data'!$L$4:$M$49,2,TRUE),0),0) -> 0 | H41: =IFERROR(F41/$D$37*(1-G41),"") | I41: =IFERROR(F41/$D$37*0.95,"") | J41: {=_xlfn.IFS($D$2='Tool-data'!$U$4,AD41,$D$2='Tool-data'!$U$3,T41,$D$2='Tool-data'!$U$5,AN41)} | M41: Power Rebel 48K | N41: 10 | O41: 13.6 | P41: 153.6 | Q41: =G41 -> 0 | R41: =IFERROR(P41/$D$37*(1-Q41),"") | S41: =IFERROR(P41/$D$37*0.95,"") | T41: =IF($D$36=0,"",IF(O41>$D$36,"necessary",IF(S41>R41,"recommended","No"))) | U41: {=_xlfn.IFS(T41="No",R41,T41="recommended",S41,T41="necessary",S41)} -> #N/A | W41: Power Rebel 48K | X41: 10 | Y41: 13.6 | Z41: 153.6 | AA41: =Q41 -> 0 | AB41: =IFERROR(Z41/$D$37*(1-AA41),"") | AC41: =IFERROR(Z41/$D$37*0.95,"") | AD41: =IF($D$36=0,"",IF(Y41>$D$36,"noodzakelijk",IF(AC41>AB41,"aanbevolen","Nee"))) | AE41: {=_xlfn.IFS(AD41="Nee",AB41,AD41="aanbevolen",AC41,AD41="noodzakelijk",AC41)} -> #N/A | AG41: Power Rebel 48K | AH41: 10 | AI41: 13.6 | AJ41: 153.6 | AK41: =AA41 -> 0 | AL41: =IFERROR(AJ41/$D$37*(1-AK41),"") | AM41: =IFERROR(AJ41/$D$37*0.95,"") | AN41: =IF($D$36=0,"",IF(AI41>$D$36,$AO$37,IF(AM41>AL41,$AO$36,$AO$35))) | AO41: {=_xlfn.IFS(AN41="Nein",AL41,AN41="Empfohlen",AM41,AN41="Nötig",AM41)} -> #N/A
C42: 12V07 AV | D42: 9 | E42: 12.6 | F42: 87 | G42: =IF($D$35>D42,IFERROR(VLOOKUP($D$35,'Tool-data'!$I$4:$J$40,2,TRUE),0),0) -> 0 | H42: =IFERROR(F42/$D$37*(1-G42),"") | I42: =IFERROR(F42/$D$37*0.95,"") | J42: {=_xlfn.IFS($D$2='Tool-data'!$U$4,AD42,$D$2='Tool-data'!$U$3,T42,$D$2='Tool-data'!$U$5,AN42)} | M42: 12V07 AV | N42: 9 | O42: 12.6 | P42: 87 | Q42: =G42 -> 0 | R42: =IFERROR(P42/$D$37*(1-Q42),"") | S42: =IFERROR(P42/$D$37*0.95,"") | T42: =IF($D$36=0,"",IF(O42>$D$36,"necessary",IF(S42>R42,"recommended","No"))) | U42: {=_xlfn.IFS(T42="No",R42,T42="recommended",S42,T42="necessary",S42)} -> #N/A | W42: 12V07 AV | X42: 9 | Y42: 12.6 | Z42: 87 | AA42: =Q42 -> 0 | AB42: =IFERROR(Z42/$D$37*(1-AA42),"") | AC42: =IFERROR(Z42/$D$37*0.95,"") | AD42: =IF($D$36=0,"",IF(Y42>$D$36,"noodzakelijk",IF(AC42>AB42,"aanbevolen","Nee"))) | AE42: {=_xlfn.IFS(AD42="Nee",AB42,AD42="aanbevolen",AC42,AD42="noodzakelijk",AC42)} -> #N/A | AG42: 12V07 AV | AH42: 9 | AI42: 12.6 | AJ42: 87 | AK42: =AA42 -> 0 | AL42: =IFERROR(AJ42/$D$37*(1-AK42),"") | AM42: =IFERROR(AJ42/$D$37*0.95,"") | AN42: =IF($D$36=0,"",IF(AI42>$D$36,$AO$37,IF(AM42>AL42,$AO$36,$AO$35))) | AO42: {=_xlfn.IFS(AN42="Nein",AL42,AN42="Empfohlen",AM42,AN42="Nötig",AM42)} -> #N/A
C43: 12V18 AV | D43: 9 | E43: 12.6 | F43: 199 | G43: =IF($D$35>D43,IFERROR(VLOOKUP($D$35,'Tool-data'!$I$4:$J$40,2,TRUE),0),0) -> 0 | H43: =IFERROR(F43/$D$37*(1-G43),"") | I43: =IFERROR(F43/$D$37*0.95,"") | J43: {=_xlfn.IFS($D$2='Tool-data'!$U$4,AD43,$D$2='Tool-data'!$U$3,T43,$D$2='Tool-data'!$U$5,AN43)} | M43: 12V18 AV | N43: 9 | O43: 12.6 | P43: 199 | Q43: =G43 -> 0 | R43: =IFERROR(P43/$D$37*(1-Q43),"") | S43: =IFERROR(P43/$D$37*0.95,"") | T43: =IF($D$36=0,"",IF(O43>$D$36,"necessary",IF(S43>R43,"recommended","No"))) | U43: {=_xlfn.IFS(T43="No",R43,T43="recommended",S43,T43="necessary",S43)} -> #N/A | W43: 12V18 AV | X43: 9 | Y43: 12.6 | Z43: 199 | AA43: =Q43 -> 0 | AB43: =IFERROR(Z43/$D$37*(1-AA43),"") | AC43: =IFERROR(Z43/$D$37*0.95,"") | AD43: =IF($D$36=0,"",IF(Y43>$D$36,"noodzakelijk",IF(AC43>AB43,"aanbevolen","Nee"))) | AE43: {=_xlfn.IFS(AD43="Nee",AB43,AD43="aanbevolen",AC43,AD43="noodzakelijk",AC43)} -> #N/A | AG43: 12V18 AV | AH43: 9 | AI43: 12.6 | AJ43: 199 | AK43: =AA43 -> 0 | AL43: =IFERROR(AJ43/$D$37*(1-AK43),"") | AM43: =IFERROR(AJ43/$D$37*0.95,"") | AN43: =IF($D$36=0,"",IF(AI43>$D$36,$AO$37,IF(AM43>AL43,$AO$36,$AO$35))) | AO43: {=_xlfn.IFS(AN43="Nein",AL43,AN43="Empfohlen",AM43,AN43="Nötig",AM43)} -> #N/A
C44: 12V30 AV | D44: 9 | E44: 12.6 | F44: 323 | G44: =IF($D$35>D44,IFERROR(VLOOKUP($D$35,'Tool-data'!$I$4:$J$40,2,TRUE),0),0) -> 0 | H44: =IFERROR(F44/$D$37*(1-G44),"") | I44: =IFERROR(F44/$D$37*0.95,"") | J44: {=_xlfn.IFS($D$2='Tool-data'!$U$4,AD44,$D$2='Tool-data'!$U$3,T44,$D$2='Tool-data'!$U$5,AN44)} | M44: 12V30 AV | N44: 9 | O44: 12.6 | P44: 323 | Q44: =G44 -> 0 | R44: =IFERROR(P44/$D$37*(1-Q44),"") | S44: =IFERROR(P44/$D$37*0.95,"") | T44: =IF($D$36=0,"",IF(O44>$D$36,"necessary",IF(S44>R44,"recommended","No"))) | U44: {=_xlfn.IFS(T44="No",R44,T44="recommended",S44,T44="necessary",S44)} -> #N/A | W44: 12V30 AV | X44: 9 | Y44: 12.6 | Z44: 323 | AA44: =Q44 -> 0 | AB44: =IFERROR(Z44/$D$37*(1-AA44),"") | AC44: =IFERROR(Z44/$D$37*0.95,"") | AD44: =IF($D$36=0,"",IF(Y44>$D$36,"noodzakelijk",IF(AC44>AB44,"aanbevolen","Nee"))) | AE44: {=_xlfn.IFS(AD44="Nee",AB44,AD44="aanbevolen",AC44,AD44="noodzakelijk",AC44)} -> #N/A | AG44: 12V30 AV | AH44: 9 | AI44: 12.6 | AJ44: 323 | AK44: =AA44 -> 0 | AL44: =IFERROR(AJ44/$D$37*(1-AK44),"") | AM44: =IFERROR(AJ44/$D$37*0.95,"") | AN44: =IF($D$36=0,"",IF(AI44>$D$36,$AO$37,IF(AM44>AL44,$AO$36,$AO$35))) | AO44: {=_xlfn.IFS(AN44="Nein",AL44,AN44="Empfohlen",AM44,AN44="Nötig",AM44)} -> #N/A
C45: Edge 12V75 | D45: 10 | E45: 14.6 | F45: 960 | G45: =IF($D$35>D45,IFERROR(VLOOKUP($D$35,'Tool-data'!$L$4:$M$500,2,TRUE),0),0) -> 0 | H45: =IFERROR(F45/$D$37*(1-G45),"") | J45: {=_xlfn.IFS($D$2='Tool-data'!$U$4,AD45,$D$2='Tool-data'!$U$3,T45,$D$2='Tool-data'!$U$5,AN45)} | M45: Edge 12V75 | N45: 10 | O45: 14.6 | P45: 960 | Q45: =G45 -> 0 | R45: =IFERROR(P45/$D$37*(1-Q45),"") | S45: =IFERROR(P45/$D$37*0.95,"") | T45: =IF($D$36=0,"",IF(O45>$D$36,"necessary",IF(S45>R45,"recommended","No"))) | U45: {=_xlfn.IFS(T45="No",R45,T45="recommended",S45,T45="necessary",S45)} -> #N/A | W45: Edge 12V75 | X45: 10 | Y45: 14.6 | Z45: 960 | AA45: =Q45 -> 0 | AB45: =IFERROR(Z45/$D$37*(1-AA45),"") | AC45: =IFERROR(Z45/$D$37*0.95,"") | AD45: =IF($D$36=0,"",IF(Y45>$D$36,"noodzakelijk",IF(AC45>AB45,"aanbevolen","Nee"))) | AE45: {=_xlfn.IFS(AD45="Nee",AB45,AD45="aanbevolen",AC45,AD45="noodzakelijk",AC45)} -> #N/A | AG45: Edge 12V75 | AH45: 10 | AI45: 14.6 | AJ45: 960 | AK45: =AA45 -> 0 | AL45: =IFERROR(AJ45/$D$37*(1-AK45),"") | AM45: =IFERROR(AJ45/$D$37*0.95,"") | AN45: =IF($D$36=0,"",IF(AI45>$D$36,$AO$37,IF(AM45>AL45,$AO$36,$AO$35))) | AO45: {=_xlfn.IFS(AN45="Nein",AL45,AN45="Empfohlen",AM45,AN45="Nötig",AM45)} -> #N/A
C46: Edge 12V105 | D46: 10 | E46: 14.6 | F46: 1340 | G46: =IF($D$35>D46,IFERROR(VLOOKUP($D$35,'Tool-data'!$L$4:$M$500,2,TRUE),0),0) -> 0 | H46: =IFERROR(F46/$D$37*(1-G46),"") | J46: {=_xlfn.IFS($D$2='Tool-data'!$U$4,AD46,$D$2='Tool-data'!$U$3,T46,$D$2='Tool-data'!$U$5,AN46)} | M46: Edge 12V105 | N46: 10 | O46: 14.6 | P46: 1340 | Q46: =G46 -> 0 | R46: =IFERROR(P46/$D$37*(1-Q46),"") | S46: =IFERROR(P46/$D$37*0.95,"") | T46: =IF($D$36=0,"",IF(O46>$D$36,"necessary",IF(S46>R46,"recommended","No"))) | U46: {=_xlfn.IFS(T46="No",R46,T46="recommended",S46,T46="necessary",S46)} -> #N/A | W46: Edge 12V105 | X46: 10 | Y46: 14.6 | Z46: 1340 | AA46: =Q46 -> 0 | AB46: =IFERROR(Z46/$D$37*(1-AA46),"") | AC46: =IFERROR(Z46/$D$37*0.95,"") | AD46: =IF($D$36=0,"",IF(Y46>$D$36,"noodzakelijk",IF(AC46>AB46,"aanbevolen","Nee"))) | AE46: {=_xlfn.IFS(AD46="Nee",AB46,AD46="aanbevolen",AC46,AD46="noodzakelijk",AC46)} -> #N/A | AG46: Edge 12V105 | AH46: 10 | AI46: 14.6 | AJ46: 1340 | AK46: =AA46 -> 0 | AL46: =IFERROR(AJ46/$D$37*(1-AK46),"") | AM46: =IFERROR(AJ46/$D$37*0.95,"") | AN46: =IF($D$36=0,"",IF(AI46>$D$36,$AO$37,IF(AM46>AL46,$AO$36,$AO$35))) | AO46: {=_xlfn.IFS(AN46="Nein",AL46,AN46="Empfohlen",AM46,AN46="Nötig",AM46)} -> #N/A
C47: Edge 12V210 | D47: 10 | E47: 14.6 | F47: 2690 | G47: =IF($D$35>D47,IFERROR(VLOOKUP($D$35,'Tool-data'!$L$4:$M$500,2,TRUE),0),0) -> 0 | H47: =IFERROR(F47/$D$37*(1-G47),"") | J47: {=_xlfn.IFS($D$2='Tool-data'!$U$4,AD47,$D$2='Tool-data'!$U$3,T47,$D$2='Tool-data'!$U$5,AN47)} | M47: Edge 12V210 | N47: 10 | O47: 14.6 | P47: 2690 | Q47: =G47 -> 0 | R47: =IFERROR(P47/$D$37*(1-Q47),"") | S47: =IFERROR(P47/$D$37*0.95,"") | T47: =IF($D$36=0,"",IF(O47>$D$36,"necessary",IF(S47>R47,"recommended","No"))) | U47: {=_xlfn.IFS(T47="No",R47,T47="recommended",S47,T47="necessary",S47)} -> #N/A | W47: Edge 12V210 | X47: 10 | Y47: 14.6 | Z47: 2690 | AA47: =Q47 -> 0 | AB47: =IFERROR(Z47/$D$37*(1-AA47),"") | AC47: =IFERROR(Z47/$D$37*0.95,"") | AD47: =IF($D$36=0,"",IF(Y47>$D$36,"noodzakelijk",IF(AC47>AB47,"aanbevolen","Nee"))) | AE47: {=_xlfn.IFS(AD47="Nee",AB47,AD47="aanbevolen",AC47,AD47="noodzakelijk",AC47)} -> #N/A | AG47: Edge 12V210 | AH47: 10 | AI47: 14.6 | AJ47: 2690 | AK47: =AA47 -> 0 | AL47: =IFERROR(AJ47/$D$37*(1-AK47),"") | AM47: =IFERROR(AJ47/$D$37*0.95,"") | AN47: =IF($D$36=0,"",IF(AI47>$D$36,$AO$37,IF(AM47>AL47,$AO$36,$AO$35))) | AO47: {=_xlfn.IFS(AN47="Nein",AL47,AN47="Empfohlen",AM47,AN47="Nötig",AM47)} -> #N/A
C48: 12V80 PRO | D48: 10 | E48: 14.6 | F48: 1002 | G48: =IF($D$35>D48,IFERROR(VLOOKUP($D$35,'Tool-data'!$L$4:$M$500,2,TRUE),0),0) -> 0 | H48: =IFERROR(F48/$D$37*(1-G48),"") | J48: {=_xlfn.IFS($D$2='Tool-data'!$U$4,AD48,$D$2='Tool-data'!$U$3,T48,$D$2='Tool-data'!$U$5,AN48)} | M48: 12V80 PRO | N48: 10 | O48: 14.6 | P48: 1002 | Q48: =G48 -> 0 | R48: =IFERROR(P48/$D$37*(1-Q48),"") | S48: =IFERROR(P48/$D$37*0.95,"") | T48: =IF($D$36=0,"",IF(O48>$D$36,"necessary",IF(S48>R48,"recommended","No"))) | U48: {=_xlfn.IFS(T48="No",R48,T48="recommended",S48,T48="necessary",S48)} -> #N/A | W48: 12V80 PRO | X48: 10 | Y48: 14.6 | Z48: 1002 | AA48: =Q48 -> 0 | AB48: =IFERROR(Z48/$D$37*(1-AA48),"") | AC48: =IFERROR(Z48/$D$37*0.95,"") | AD48: =IF($D$36=0,"",IF(Y48>$D$36,"noodzakelijk",IF(AC48>AB48,"aanbevolen","Nee"))) | AE48: {=_xlfn.IFS(AD48="Nee",AB48,AD48="aanbevolen",AC48,AD48="noodzakelijk",AC48)} -> #N/A | AG48: 12V80 PRO | AH48: 10 | AI48: 14.6 | AJ48: 1002 | AK48: =AA48 -> 0 | AL48: =IFERROR(AJ48/$D$37*(1-AK48),"") | AM48: =IFERROR(AJ48/$D$37*0.95,"") | AN48: =IF($D$36=0,"",IF(AI48>$D$36,$AO$37,IF(AM48>AL48,$AO$36,$AO$35))) | AO48: {=_xlfn.IFS(AN48="Nein",AL48,AN48="Empfohlen",AM48,AN48="Nötig",AM48)} -> #N/A
C49: 12V120 PRO | D49: 10 | E49: 14.6 | F49: 1540 | G49: =IF($D$35>D49,IFERROR(VLOOKUP($D$35,'Tool-data'!$L$4:$M$500,2,TRUE),0),0) -> 0 | H49: =IFERROR(F49/$D$37*(1-G49),"") | J49: {=_xlfn.IFS($D$2='Tool-data'!$U$4,AD49,$D$2='Tool-data'!$U$3,T49,$D$2='Tool-data'!$U$5,AN49)} | M49: 12V120 PRO | N49: 10 | O49: 14.6 | P49: 1540 | Q49: =G49 -> 0 | R49: =IFERROR(P49/$D$37*(1-Q49),"") | S49: =IFERROR(P49/$D$37*0.95,"") | T49: =IF($D$36=0,"",IF(O49>$D$36,"necessary",IF(S49>R49,"recommended","No"))) | U49: {=_xlfn.IFS(T49="No",R49,T49="recommended",S49,T49="necessary",S49)} -> #N/A | W49: 12V120 PRO | X49: 10 | Y49: 14.6 | Z49: 1540 | AA49: =Q49 -> 0 | AB49: =IFERROR(Z49/$D$37*(1-AA49),"") | AC49: =IFERROR(Z49/$D$37*0.95,"") | AD49: =IF($D$36=0,"",IF(Y49>$D$36,"noodzakelijk",IF(AC49>AB49,"aanbevolen","Nee"))) | AE49: {=_xlfn.IFS(AD49="Nee",AB49,AD49="aanbevolen",AC49,AD49="noodzakelijk",AC49)} -> #N/A | AG49: 12V120 PRO | AH49: 10 | AI49: 14.6 | AJ49: 1540 | AK49: =AA49 -> 0 | AL49: =IFERROR(AJ49/$D$37*(1-AK49),"") | AM49: =IFERROR(AJ49/$D$37*0.95,"") | AN49: =IF($D$36=0,"",IF(AI49>$D$36,$AO$37,IF(AM49>AL49,$AO$36,$AO$35))) | AO49: {=_xlfn.IFS(AN49="Nein",AL49,AN49="Empfohlen",AM49,AN49="Nötig",AM49)} -> #N/A
C50: Edge 24V100 | D50: 20 | E50: 29.2 | F50: 2690 | G50: =IF(AND(D36<29,D35>2),AQ50,IF($D$35>D50,IFERROR(VLOOKUP($D$35,'Tool-data'!$O$4:$P$500,2,TRUE),0),0)) -> 0 | H50: =IF(D36<29,"-",IFERROR(F50/$D$37*(1-G50),"")) -> - | I50: =IF(D36<29,"-",IFERROR(F50/$D$37*0.95,"")) -> - | J50: {=IF(D36<29,"-",_xlfn.IFS($D$2='Tool-data'!$U$4,AD50,$D$2='Tool-data'!$U$3,T50,$D$2='Tool-data'!$U$5,AN50))} -> - | M50: Edge 24V100 | N50: 20 | O50: 29.2 | P50: 2690 | Q50: =G50 -> 0 | R50: =H50 -> - | S50: =I50 -> - | T50: =J50 -> - | W50: Edge 24V100 | X50: 20 | Y50: 29.2 | Z50: 2690 | AA50: =G50 -> 0 | AB50: =H50 -> - | AC50: =I50 -> - | AD50: =J50 -> - | AG50: Edge 24V100 | AH50: 20 | AI50: 29.2 | AJ50: 2690 | AK50: =G50 -> 0 | AL50: =H50 -> - | AM50: =I50 -> - | AN50: =J50 -> - | AQ50: {=_xlfn.IFS($D$2='Tool-data'!$U$4,"Niet geschik voor een 24V accu",$D$2='Tool-data'!$U$3,"Not suitable for a 24V Battery",$D$2='Tool-data'!$U$5,"Nicht geeignet für eine 24V-Batterie")} -> Not suitable for a 24V Battery

Sheet Other
C2: Choose you language: | D2: EN
C3: {=_xlfn.IFS($D$2='Tool-data'!$U$4,V3,$D$2='Tool-data'!$U$3,M3,$D$2='Tool-data'!$U$5,AE3)} -> The Rebelcell Fishfinder Battery Tool | M3: The Rebelcell Fishfinder Battery Tool | V3: De Rebelcell Fishfinder Accu tool | AE3: Das Rebelcell Echolot-Batterie Tool
C4: {=_xlfn.IFS($D$2='Tool-data'!$U$4,V4,$D$2='Tool-data'!$U$3,M4,$D$2='Tool-data'!$U$5,AE4)} -> Find the right Rebelcell battery for your on-board equipment | M4: Find the right Rebelcell battery for your on-board equipment | V4: Vind de juiste Rebelcell accu voor uw visapparatuur aan boord | AE4: Finden Sie die richtige Rebelcell-Batterie für Ihr Fischereigerät an Bord
C6: {=_xlfn.IFS($D$2='Tool-data'!$U$4,V6,$D$2='Tool-data'!$U$3,M6,$D$2='Tool-data'!$U$5,AE6)} -> Was your equipment not listed on the previous page? | M6: Was your equipment not listed on the previous page? | V6: Stond uw apparatuur er niet tussen op de vorige pagina? | AE6: War Ihre Ausrüstung nicht auf der vorherigen Seite aufgeführt?
C7: {=_xlfn.IFS($D$2='Tool-data'!$U$4,V7,$D$2='Tool-data'!$U$3,M7,$D$2='Tool-data'!$U$5,AE7)} -> Check the technical specifications in your equipment manual. | M7: Check the technical specifications in your equipment manual. | V7: Kijk in de handleiding van uw apparatuur bij de technische specificaties. | AE7: Prüfen Sie die technischen Daten im Handbuch Ihres Geräts.
C8: {=_xlfn.IFS($D$2='Tool-data'!$U$4,V8,$D$2='Tool-data'!$U$3,M8,$D$2='Tool-data'!$U$5,AE8)} -> Look up the minimum input voltage, maximum input voltage and consumption in W here. | M8: Look up the minimum input voltage, maximum input voltage and consumption in W here. | V8: Zoek hier het minimale ingansvoltage, het maximale ingansvoltage en het verbruik in W op. | AE8: Hier können Sie die minimale Eingangsspannung, die maximale Eingangsspannung und den Verbrauch in Watt nachschlagen.
C9: {=_xlfn.IFS($D$2='Tool-data'!$U$4,V9,$D$2='Tool-data'!$U$3,M9,$D$2='Tool-data'!$U$5,AE9)} -> Do you have several devices? Then add up the power (W). | M9: Do you have several devices? Then add up the power (W). | V9: Heeft u meerdere apparaten? Tel dan het vermogen (W) bij elkaar op. | AE9: Haben Sie mehrere Geräte? Dann addieren Sie die Leistung (W).
C10: {=_xlfn.IFS($D$2='Tool-data'!$U$4,V10,$D$2='Tool-data'!$U$3,M10,$D$2='Tool-data'!$U$5,AE10)} -> Enter that data below in the grey cells. | M10: Enter that data below in the grey cells. | V10: Vul die gegeven hieronde in de grijze cellen in. | AE10: Tragen Sie diese Daten unten in die grauen Felder ein.
C13: {=_xlfn.IFS($D$2='Tool-data'!$U$4,V13,$D$2='Tool-data'!$U$3,M13,$D$2='Tool-data'!$U$5,AE13)} -> Minimum input voltage | M13: Minimum input voltage | N13: 10.6 | V13: Minimaal ingangsvoltage | AE13: Minimale Eingangsspannung
C14: {=_xlfn.IFS($D$2='Tool-data'!$U$4,V14,$D$2='Tool-data'!$U$3,M14,$D$2='Tool-data'!$U$5,AE14)} -> Maximum input voltage | M14: Maximum input voltage | N14: 16 | V14: Maximaal ingansvoltage | AE14: Maximale Eingangsspannung
C15: {=_xlfn.IFS($D$2='Tool-data'!$U$4,V15,$D$2='Tool-data'!$U$3,M15,$D$2='Tool-data'!$U$5,AE15)} -> Total power consumption in W | M15: Total power consumption in W | N15: 25 | V15: Totaal verbruik in W | AE15: Gesamtverbrauch in W
C18: {=_xlfn.IFS($D$2='Tool-data'!$U$4,V18,$D$2='Tool-data'!$U$3,M18,$D$2='Tool-data'!$U$5,AE18)} -> Runtime per battery | D18: {=_xlfn.IFS($D$2='Tool-data'!$U$4,W18,$D$2='Tool-data'!$U$3,N18,$D$2='Tool-data'!$U$5,AF18)} -> Min | E18: {=_xlfn.IFS($D$2='Tool-data'!$U$4,X18,$D$2='Tool-data'!$U$3,O18,$D$2='Tool-data'!$U$5,AG18)} -> Max | F18: {=_xlfn.IFS($D$2='Tool-data'!$U$4,Y18,$D$2='Tool-data'!$U$3,P18,$D$2='Tool-data'!$U$5,AH18)} -> Wh | G18: {=_xlfn.IFS($D$2='Tool-data'!$U$4,Z18,$D$2='Tool-data'!$U$3,Q18,$D$2='Tool-data'!$U$5,AI18)} -> Voltage gets below minimum at | H18: {=_xlfn.IFS($D$2='Tool-data'!$U$4,AA18,$D$2='Tool-data'!$U$3,R18,$D$2='Tool-data'!$U$5,AJ18)} -> Runtime without stabilizer | I18: {=_xlfn.IFS($D$2='Tool-data'!$U$4,AB18,$D$2='Tool-data'!$U$3,S18,$D$2='Tool-data'!$U$5,AK18)} -> Runtime with stabilizer | J18: {=_xlfn.IFS($D$2='Tool-data'!$U$4,AC18,$D$2='Tool-data'!$U$3,T18,$D$2='Tool-data'!$U$5,AL18)} -> Stabilizer necessary or recommended? | M18: Runtime per battery | N18: Min | O18: Max | P18: Wh | Q18: Voltage gets below minimum at | R18: Runtime without stabilizer | S18: Runtime with stabilizer | T18: Stabilizer necessary or recommended? | V18: Gebruikstijd per accu | W18: Min | X18: Max | Y18: Wh | Z18: Voltage komt onder minimum bij | AA18: Gebruikstijd zonder stabilisator | AB18: Gebruikstijd met stabilisator | AC18: Stabilisator noodzakelijk of aanbeloven? | AE18: Nutzungsdauer pro Batterie | AF18: Min | AG18: Max | AH18: Wh | AI18: Die Spannung fällt unter das Minimum bei | AJ18: Betriebszeit ohne Stabilisator | AK18: Betriebszeit mit Stabilisator | AL18: Stabilisator erforderlich oder empfohlen? | AM18: Nein
C19: {=_xlfn.IFS($D$2='Tool-data'!$U$4,V19,$D$2='Tool-data'!$U$3,M19,$D$2='Tool-data'!$U$5,AE19)} -> Power Rebel 48K | D19: {=_xlfn.IFS($D$2='Tool-data'!$U$4,W19,$D$2='Tool-data'!$U$3,N19,$D$2='Tool-data'!$U$5,AF19)} -> 10 | E19: {=_xlfn.IFS($D$2='Tool-data'!$U$4,X19,$D$2='Tool-data'!$U$3,O19,$D$2='Tool-data'!$U$5,AG19)} -> 13.6 | F19: {=_xlfn.IFS($D$2='Tool-data'!$U$4,Y19,$D$2='Tool-data'!$U$3,P19,$D$2='Tool-data'!$U$5,AH19)} -> 153.6 | G19: {=_xlfn.IFS($D$2='Tool-data'!$U$4,Z19,$D$2='Tool-data'!$U$3,Q19,$D$2='Tool-data'!$U$5,AI19)} -> 0 | H19: {=_xlfn.IFS($D$2='Tool-data'!$U$4,AA19,$D$2='Tool-data'!$U$3,R19,$D$2='Tool-data'!$U$5,AJ19)} | I19: {=_xlfn.IFS($D$2='Tool-data'!$U$4,AB19,$D$2='Tool-data'!$U$3,S19,$D$2='Tool-data'!$U$5,AK19)} | J19: {=_xlfn.IFS($D$2='Tool-data'!$U$4,AC19,$D$2='Tool-data'!$U$3,T19,$D$2='Tool-data'!$U$5,AL19)} | M19: Power Rebel 48K | N19: 10 | O19: 13.6 | P19: 153.6 | Q19: =IF($D$13>N19,IFERROR(VLOOKUP($D$13,'Tool-data'!$L$4:$M$49,2,TRUE),0),0) -> 0 | R19: =IFERROR(P19/$D$15*(1-Q19),"") | S19: =IFERROR(P19/$D$15*0.95,"") | T19: =IF($D$14=0,"",IF(O19>$D$14,"necessary",IF(S19>R19,"recommended","No"))) | V19: Power Rebel 48K | W19: 10 | X19: 13.6 | Y19: 153.6 | Z19: =IF($D$13>W19,IFERROR(VLOOKUP($D$13,'Tool-data'!$L$4:$M$49,2,TRUE),0),0) -> 0 | AA19: =IFERROR(Y19/$D$15*(1-Z19),"") | AB19: =IFERROR(Y19/$D$15*0.95,"") | AC19: =IF($D$14=0,"",IF(X19>$D$14,"noodzakelijk",IF(AB19>AA19,"Aanbevolen","Nee"))) | AE19: Power Rebel 48K | AF19: 10 | AG19: 13.6 | AH19: 153.6 | AI19: =IF($D$13>AF19,IFERROR(VLOOKUP($D$13,'Tool-data'!$L$4:$M$49,2,TRUE),0),0) -> 0 | AJ19: =IFERROR(AH19/$D$15*(1-AI19),"") | AK19: =IFERROR(AH19/$D$15*0.95,"") | AL19: =IF($D$14=0,"",IF(AG19>$D$14,$AM$20,IF(AK19>AJ19,$AM$19,$AM$18))) | AM19: Empfohlen
C20: {=_xlfn.IFS($D$2='Tool-data'!$U$4,V20,$D$2='Tool-data'!$U$3,M20,$D$2='Tool-data'!$U$5,AE20)} -> 12V07 AV | D20: {=_xlfn.IFS($D$2='Tool-data'!$U$4,W20,$D$2='Tool-data'!$U$3,N20,$D$2='Tool-data'!$U$5,AF20)} -> 9 | E20: {=_xlfn.IFS($D$2='Tool-data'!$U$4,X20,$D$2='Tool-data'!$U$3,O20,$D$2='Tool-data'!$U$5,AG20)} -> 12.6 | F20: {=_xlfn.IFS($D$2='Tool-data'!$U$4,Y20,$D$2='Tool-data'!$U$3,P20,$D$2='Tool-data'!$U$5,AH20)} -> 87 | G20: {=_xlfn.IFS($D$2='Tool-data'!$U$4,Z20,$D$2='Tool-data'!$U$3,Q20,$D$2='Tool-data'!$U$5,AI20)} -> 0 | H20: {=_xlfn.IFS($D$2='Tool-data'!$U$4,AA20,$D$2='Tool-data'!$U$3,R20,$D$2='Tool-data'!$U$5,AJ20)} | I20: {=_xlfn.IFS($D$2='Tool-data'!$U$4,AB20,$D$2='Tool-data'!$U$3,S20,$D$2='Tool-data'!$U$5,AK20)} | J20: {=_xlfn.IFS($D$2='Tool-data'!$U$4,AC20,$D$2='Tool-data'!$U$3,T20,$D$2='Tool-data'!$U$5,AL20)} | M20: 12V07 AV | N20: 9 | O20: 12.6 | P20: 87 | Q20: =IF($D$13>N20,IFERROR(VLOOKUP($D$13,'Tool-data'!$I$4:$J$40,2,TRUE),0),0) -> 0 | R20: =IFERROR(P20/$D$15*(1-Q20),"") | S20: =IFERROR(P20/$D$15*0.95,"") | T20: =IF($D$14=0,"",IF(O20>$D$14,"necessary",IF(S20>R20,"recommended","No"))) | V20: 12V07 AV | W20: 9 | X20: 12.6 | Y20: 87 | Z20: =IF($D$13>W20,IFERROR(VLOOKUP($D$13,'Tool-data'!$I$4:$J$40,2,TRUE),0),0) -> 0 | AA20: =IFERROR(Y20/$D$15*(1-Z20),"") | AB20: =IFERROR(Y20/$D$15*0.95,"") | AC20: =IF($D$14=0,"",IF(X20>$D$14,"noodzakelijk",IF(AB20>AA20,"Aanbevolen","Nee"))) | AE20: 12V07 AV | AF20: 9 | AG20: 12.6 | AH20: 87 | AI20: =IF($D$13>AF20,IFERROR(VLOOKUP($D$13,'Tool-data'!$L$4:$M$49,2,TRUE),0),0) -> 0 | AJ20: =IFERROR(AH20/$D$15*(1-AI20),"") | AK20: =IFERROR(AH20/$D$15*0.95,"") | AL20: =IF($D$14=0,"",IF(AG20>$D$14,$AM$20,IF(AK20>AJ20,$AM$19,$AM$18))) | AM20: Nötig
C21: {=_xlfn.IFS($D$2='Tool-data'!$U$4,V21,$D$2='Tool-data'!$U$3,M21,$D$2='Tool-data'!$U$5,AE21)} -> 12V18 AV | D21: {=_xlfn.IFS($D$2='Tool-data'!$U$4,W21,$D$2='Tool-data'!$U$3,N21,$D$2='Tool-data'!$U$5,AF21)} -> 9 | E21: {=_xlfn.IFS($D$2='Tool-data'!$U$4,X21,$D$2='Tool-data'!$U$3,O21,$D$2='Tool-data'!$U$5,AG21)} -> 12.6 | F21: {=_xlfn.IFS($D$2='Tool-data'!$U$4,Y21,$D$2='Tool-data'!$U$3,P21,$D$2='Tool-data'!$U$5,AH21)} -> 199 | G21: {=_xlfn.IFS($D$2='Tool-data'!$U$4,Z21,$D$2='Tool-data'!$U$3,Q21,$D$2='Tool-data'!$U$5,AI21)} -> 0 | H21: {=_xlfn.IFS($D$2='Tool-data'!$U$4,AA21,$D$2='Tool-data'!$U$3,R21,$D$2='Tool-data'!$U$5,AJ21)} | I21: {=_xlfn.IFS($D$2='Tool-data'!$U$4,AB21,$D$2='Tool-data'!$U$3,S21,$D$2='Tool-data'!$U$5,AK21)} | J21: {=_xlfn.IFS($D$2='Tool-data'!$U$4,AC21,$D$2='Tool-data'!$U$3,T21,$D$2='Tool-data'!$U$5,AL21)} | M21: 12V18 AV | N21: 9 | O21: 12.6 | P21: 199 | Q21: =IF($D$13>N21,IFERROR(VLOOKUP($D$13,'Tool-data'!$I$4:$J$40,2,TRUE),0),0) -> 0 | R21: =IFERROR(P21/$D$15*(1-Q21),"") | S21: =IFERROR(P21/$D$15*0.95,"") | T21: =IF($D$14=0,"",IF(O21>$D$14,"necessary",IF(S21>R21,"recommended","No"))) | V21: 12V18 AV | W21: 9 | X21: 12.6 | Y21: 199 | Z21: =IF($D$13>W21,IFERROR(VLOOKUP($D$13,'Tool-data'!$I$4:$J$40,2,TRUE),0),0) -> 0 | AA21: =IFERROR(Y21/$D$15*(1-Z21),"") | AB21: =IFERROR(Y21/$D$15*0.95,"") | AC21: =IF($D$14=0,"",IF(X21>$D$14,"noodzakelijk",IF(AB21>AA21,"Aanbevolen","Nee"))) | AE21: 12V18 AV | AF21: 9 | AG21: 12.6 | AH21: 199 | AI21: =IF($D$13>AF21,IFERROR(VLOOKUP($D$13,'Tool-data'!$L$4:$M$49,2,TRUE),0),0) -> 0 | AJ21: =IFERROR(AH21/$D$15*(1-AI21),"") | AK21: =IFERROR(AH21/$D$15*0.95,"") | AL21: =IF($D$14=0,"",IF(AG21>$D$14,$AM$20,IF(AK21>AJ21,$AM$19,$AM$18)))
C22: {=_xlfn.IFS($D$2='Tool-data'!$U$4,V22,$D$2='Tool-data'!$U$3,M22,$D$2='Tool-data'!$U$5,AE22)} -> 12V30 AV | D22: {=_xlfn.IFS($D$2='Tool-data'!$U$4,W22,$D$2='Tool-data'!$U$3,N22,$D$2='Tool-data'!$U$5,AF22)} -> 9 | E22: {=_xlfn.IFS($D$2='Tool-data'!$U$4,X22,$D$2='Tool-data'!$U$3,O22,$D$2='Tool-data'!$U$5,AG22)} -> 12.6 | F22: {=_xlfn.IFS($D$2='Tool-data'!$U$4,Y22,$D$2='Tool-data'!$U$3,P22,$D$2='Tool-data'!$U$5,AH22)} -> 323 | G22: {=_xlfn.IFS($D$2='Tool-data'!$U$4,Z22,$D$2='Tool-data'!$U$3,Q22,$D$2='Tool-data'!$U$5,AI22)} -> 0 | H22: {=_xlfn.IFS($D$2='Tool-data'!$U$4,AA22,$D$2='Tool-data'!$U$3,R22,$D$2='Tool-data'!$U$5,AJ22)} | I22: {=_xlfn.IFS($D$2='Tool-data'!$U$4,AB22,$D$2='Tool-data'!$U$3,S22,$D$2='Tool-data'!$U$5,AK22)} | J22: {=_xlfn.IFS($D$2='Tool-data'!$U$4,AC22,$D$2='Tool-data'!$U$3,T22,$D$2='Tool-data'!$U$5,AL22)} | M22: 12V30 AV | N22: 9 | O22: 12.6 | P22: 323 | Q22: =IF($D$13>N22,IFERROR(VLOOKUP($D$13,'Tool-data'!$I$4:$J$40,2,TRUE),0),0) -> 0 | R22: =IFERROR(P22/$D$15*(1-Q22),"") | S22: =IFERROR(P22/$D$15*0.95,"") | T22: =IF($D$14=0,"",IF(O22>$D$14,"necessary",IF(S22>R22,"recommended","No"))) | V22: 12V30 AV | W22: 9 | X22: 12.6 | Y22: 323 | Z22: =IF($D$13>W22,IFERROR(VLOOKUP($D$13,'Tool-data'!$I$4:$J$40,2,TRUE),0),0) -> 0 | AA22: =IFERROR(Y22/$D$15*(1-Z22),"") | AB22: =IFERROR(Y22/$D$15*0.95,"") | AC22: =IF($D$14=0,"",IF(X22>$D$14,"noodzakelijk",IF(AB22>AA22,"Aanbevolen","Nee"))) | AE22: 12V30 AV | AF22: 9 | AG22: 12.6 | AH22: 323 | AI22: =IF($D$13>AF22,IFERROR(VLOOKUP($D$13,'Tool-data'!$L$4:$M$49,2,TRUE),0),0) -> 0 | AJ22: =IFERROR(AH22/$D$15*(1-AI22),"") | AK22: =IFERROR(AH22/$D$15*0.95,"") | AL22: =IF($D$14=0,"",IF(AG22>$D$14,$AM$20,IF(AK22>AJ22,$AM$19,$AM$18)))
C23: {=_xlfn.IFS($D$2='Tool-data'!$U$4,V23,$D$2='Tool-data'!$U$3,M23,$D$2='Tool-data'!$U$5,AE23)} -> 12V35 AV | D23: {=_xlfn.IFS($D$2='Tool-data'!$U$4,W23,$D$2='Tool-data'!$U$3,N23,$D$2='Tool-data'!$U$5,AF23)} -> 9 | E23: {=_xlfn.IFS($D$2='Tool-data'!$U$4,X23,$D$2='Tool-data'!$U$3,O23,$D$2='Tool-data'!$U$5,AG23)} -> 12.6 | F23: {=_xlfn.IFS($D$2='Tool-data'!$U$4,Y23,$D$2='Tool-data'!$U$3,P23,$D$2='Tool-data'!$U$5,AH23)} -> 432 | G23: {=_xlfn.IFS($D$2='Tool-data'!$U$4,Z23,$D$2='Tool-data'!$U$3,Q23,$D$2='Tool-data'!$U$5,AI23)} -> 0 | H23: {=_xlfn.IFS($D$2='Tool-data'!$U$4,AA23,$D$2='Tool-data'!$U$3,R23,$D$2='Tool-data'!$U$5,AJ23)} | I23: {=_xlfn.IFS($D$2='Tool-data'!$U$4,AB23,$D$2='Tool-data'!$U$3,S23,$D$2='Tool-data'!$U$5,AK23)} | J23: {=_xlfn.IFS($D$2='Tool-data'!$U$4,AC23,$D$2='Tool-data'!$U$3,T23,$D$2='Tool-data'!$U$5,AL23)} | M23: 12V35 AV | N23: 9 | O23: 12.6 | P23: 432 | Q23: =IF($D$13>N23,IFERROR(VLOOKUP($D$13,'Tool-data'!$I$4:$J$40,2,TRUE),0),0) -> 0 | R23: =IFERROR(P23/$D$15*(1-Q23),"") | S23: =IFERROR(P23/$D$15*0.95,"") | T23: =IF($D$14=0,"",IF(O23>$D$14,"necessary",IF(S23>R23,"recommended","No"))) | V23: 12V35 AV | W23: 9 | X23: 12.6 | Y23: 432 | Z23: =IF($D$13>W23,IFERROR(VLOOKUP($D$13,'Tool-data'!$I$4:$J$40,2,TRUE),0),0) -> 0 | AA23: =IFERROR(Y23/$D$15*(1-Z23),"") | AB23: =IFERROR(Y23/$D$15*0.95,"") | AC23: =IF($D$14=0,"",IF(X23>$D$14,"noodzakelijk",IF(AB23>AA23,"Aanbevolen","Nee"))) | AE23: 12V35 AV | AF23: 9 | AG23: 12.6 | AH23: 432 | AI23: =IF($D$13>AF23,IFERROR(VLOOKUP($D$13,'Tool-data'!$L$4:$M$49,2,TRUE),0),0) -> 0 | AJ23: =IFERROR(AH23/$D$15*(1-AI23),"") | AK23: =IFERROR(AH23/$D$15*0.95,"") | AL23: =IF($D$14=0,"",IF(AG23>$D$14,$AM$20,IF(AK23>AJ23,$AM$19,$AM$18)))
C24: {=_xlfn.IFS($D$2='Tool-data'!$U$4,V24,$D$2='Tool-data'!$U$3,M24,$D$2='Tool-data'!$U$5,AE24)} -> 12V50 AV | D24: {=_xlfn.IFS($D$2='Tool-data'!$U$4,W24,$D$2='Tool-data'!$U$3,N24,$D$2='Tool-data'!$U$5,AF24)} -> 9 | E24: {=_xlfn.IFS($D$2='Tool-data'!$U$4,X24,$D$2='Tool-data'!$U$3,O24,$D$2='Tool-data'!$U$5,AG24)} -> 12.6 | F24: {=_xlfn.IFS($D$2='Tool-data'!$U$4,Y24,$D$2='Tool-data'!$U$3,P24,$D$2='Tool-data'!$U$5,AH24)} -> 634 | G24: {=_xlfn.IFS($D$2='Tool-data'!$U$4,Z24,$D$2='Tool-data'!$U$3,Q24,$D$2='Tool-data'!$U$5,AI24)} -> 0 | H24: {=_xlfn.IFS($D$2='Tool-data'!$U$4,AA24,$D$2='Tool-data'!$U$3,R24,$D$2='Tool-data'!$U$5,AJ24)} | I24: {=_xlfn.IFS($D$2='Tool-data'!$U$4,AB24,$D$2='Tool-data'!$U$3,S24,$D$2='Tool-data'!$U$5,AK24)} | J24: {=_xlfn.IFS($D$2='Tool-data'!$U$4,AC24,$D$2='Tool-data'!$U$3,T24,$D$2='Tool-data'!$U$5,AL24)} | M24: 12V50 AV | N24: 9 | O24: 12.6 | P24: 634 | Q24: =IF($D$13>N24,IFERROR(VLOOKUP($D$13,'Tool-data'!$I$4:$J$40,2,TRUE),0),0) -> 0 | R24: =IFERROR(P24/$D$15*(1-Q24),"") | S24: =IFERROR(P24/$D$15*0.95,"") | T24: =IF($D$14=0,"",IF(O24>$D$14,"necessary",IF(S24>R24,"recommended","No"))) | V24: 12V50 AV | W24: 9 | X24: 12.6 | Y24: 634 | Z24: =IF($D$13>W24,IFERROR(VLOOKUP($D$13,'Tool-data'!$I$4:$J$40,2,TRUE),0),0) -> 0 | AA24: =IFERROR(Y24/$D$15*(1-Z24),"") | AB24: =IFERROR(Y24/$D$15*0.95,"") | AC24: =IF($D$14=0,"",IF(X24>$D$14,"noodzakelijk",IF(AB24>AA24,"Aanbevolen","Nee"))) | AE24: 12V50 AV | AF24: 9 | AG24: 12.6 | AH24: 634 | AI24: =IF($D$13>AF24,IFERROR(VLOOKUP($D$13,'Tool-data'!$L$4:$M$49,2,TRUE),0),0) -> 0 | AJ24: =IFERROR(AH24/$D$15*(1-AI24),"") | AK24: =IFERROR(AH24/$D$15*0.95,"") | AL24: =IF($D$14=0,"",IF(AG24>$D$14,$AM$20,IF(AK24>AJ24,$AM$19,$AM$18)))
C25: {=_xlfn.IFS($D$2='Tool-data'!$U$4,V25,$D$2='Tool-data'!$U$3,M25,$D$2='Tool-data'!$U$5,AE25)} -> 12V70 AV | D25: {=_xlfn.IFS($D$2='Tool-data'!$U$4,W25,$D$2='Tool-data'!$U$3,N25,$D$2='Tool-data'!$U$5,AF25)} -> 9 | E25: {=_xlfn.IFS($D$2='Tool-data'!$U$4,X25,$D$2='Tool-data'!$U$3,O25,$D$2='Tool-data'!$U$5,AG25)} -> 12.6 | F25: {=_xlfn.IFS($D$2='Tool-data'!$U$4,Y25,$D$2='Tool-data'!$U$3,P25,$D$2='Tool-data'!$U$5,AH25)} -> 836 | G25: {=_xlfn.IFS($D$2='Tool-data'!$U$4,Z25,$D$2='Tool-data'!$U$3,Q25,$D$2='Tool-data'!$U$5,AI25)} -> 0 | H25: {=_xlfn.IFS($D$2='Tool-data'!$U$4,AA25,$D$2='Tool-data'!$U$3,R25,$D$2='Tool-data'!$U$5,AJ25)} | I25: {=_xlfn.IFS($D$2='Tool-data'!$U$4,AB25,$D$2='Tool-data'!$U$3,S25,$D$2='Tool-data'!$U$5,AK25)} | J25: {=_xlfn.IFS($D$2='Tool-data'!$U$4,AC25,$D$2='Tool-data'!$U$3,T25,$D$2='Tool-data'!$U$5,AL25)} | M25: 12V70 AV | N25: 9 | O25: 12.6 | P25: 836 | Q25: =IF($D$13>N25,IFERROR(VLOOKUP($D$13,'Tool-data'!$I$4:$J$40,2,TRUE),0),0) -> 0 | R25: =IFERROR(P25/$D$15*(1-Q25),"") | S25: =IFERROR(P25/$D$15*0.95,"") | T25: =IF($D$14=0,"",IF(O25>$D$14,"necessary",IF(S25>R25,"recommended","No"))) | V25: 12V70 AV | W25: 9 | X25: 12.6 | Y25: 836 | Z25: =IF($D$13>W25,IFERROR(VLOOKUP($D$13,'Tool-data'!$I$4:$J$40,2,TRUE),0),0) -> 0 | AA25: =IFERROR(Y25/$D$15*(1-Z25),"") | AB25: =IFERROR(Y25/$D$15*0.95,"") | AC25: =IF($D$14=0,"",IF(X25>$D$14,"noodzakelijk",IF(AB25>AA25,"Aanbevolen","Nee"))) | AE25: 12V70 AV | AF25: 9 | AG25: 12.6 | AH25: 836 | AI25: =IF($D$13>AF25,IFERROR(VLOOKUP($D$13,'Tool-data'!$L$4:$M$49,2,TRUE),0),0) -> 0 | AJ25: =IFERROR(AH25/$D$15*(1-AI25),"") | AK25: =IFERROR(AH25/$D$15*0.95,"") | AL25: =IF($D$14=0,"",IF(AG25>$D$14,$AM$20,IF(AK25>AJ25,$AM$19,$AM$18)))
C26: {=_xlfn.IFS($D$2='Tool-data'!$U$4,V26,$D$2='Tool-data'!$U$3,M26,$D$2='Tool-data'!$U$5,AE26)} -> 12V100 AV | D26: {=_xlfn.IFS($D$2='Tool-data'!$U$4,W26,$D$2='Tool-data'!$U$3,N26,$D$2='Tool-data'!$U$5,AF26)} -> 9 | E26: {=_xlfn.IFS($D$2='Tool-data'!$U$4,X26,$D$2='Tool-data'!$U$3,O26,$D$2='Tool-data'!$U$5,AG26)} -> 12.6 | F26: {=_xlfn.IFS($D$2='Tool-data'!$U$4,Y26,$D$2='Tool-data'!$U$3,P26,$D$2='Tool-data'!$U$5,AH26)} -> 1290 | G26: {=_xlfn.IFS($D$2='Tool-data'!$U$4,Z26,$D$2='Tool-data'!$U$3,Q26,$D$2='Tool-data'!$U$5,AI26)} -> 0 | H26: {=_xlfn.IFS($D$2='Tool-data'!$U$4,AA26,$D$2='Tool-data'!$U$3,R26,$D$2='Tool-data'!$U$5,AJ26)} | I26: {=_xlfn.IFS($D$2='Tool-data'!$U$4,AB26,$D$2='Tool-data'!$U$3,S26,$D$2='Tool-data'!$U$5,AK26)} | J26: {=_xlfn.IFS($D$2='Tool-data'!$U$4,AC26,$D$2='Tool-data'!$U$3,T26,$D$2='Tool-data'!$U$5,AL26)} | M26: 12V100 AV | N26: 9 | O26: 12.6 | P26: 1290 | Q26: =IF($D$13>N26,IFERROR(VLOOKUP($D$13,'Tool-data'!$I$4:$J$40,2,TRUE),0),0) -> 0 | R26: =IFERROR(P26/$D$15*(1-Q26),"") | S26: =IFERROR(P26/$D$15*0.95,"") | T26: =IF($D$14=0,"",IF(O26>$D$14,"necessary",IF(S26>R26,"recommended","No"))) | V26: 12V100 AV | W26: 9 | X26: 12.6 | Y26: 1290 | Z26: =IF($D$13>W26,IFERROR(VLOOKUP($D$13,'Tool-data'!$I$4:$J$40,2,TRUE),0),0) -> 0 | AA26: =IFERROR(Y26/$D$15*(1-Z26),"") | AB26: =IFERROR(Y26/$D$15*0.95,"") | AC26: =IF($D$14=0,"",IF(X26>$D$14,"noodzakelijk",IF(AB26>AA26,"Aanbevolen","Nee"))) | AE26: 12V100 AV | AF26: 9 | AG26: 12.6 | AH26: 1290 | AI26: =IF($D$13>AF26,IFERROR(VLOOKUP($D$13,'Tool-data'!$L$4:$M$49,2,TRUE),0),0) -> 0 | AJ26: =IFERROR(AH26/$D$15*(1-AI26),"") | AK26: =IFERROR(AH26/$D$15*0.95,"") | AL26: =IF($D$14=0,"",IF(AG26>$D$14,$AM$20,IF(AK26>AJ26,$AM$19,$AM$18)))
C27: {=_xlfn.IFS($D$2='Tool-data'!$U$4,V27,$D$2='Tool-data'!$U$3,M27,$D$2='Tool-data'!$U$5,AE27)} -> 12V140 AV | D27: {=_xlfn.IFS($D$2='Tool-data'!$U$4,W27,$D$2='Tool-data'!$U$3,N27,$D$2='Tool-data'!$U$5,AF27)} -> 9 | E27: {=_xlfn.IFS($D$2='Tool-data'!$U$4,X27,$D$2='Tool-data'!$U$3,O27,$D$2='Tool-data'!$U$5,AG27)} -> 12.6 | F27: {=_xlfn.IFS($D$2='Tool-data'!$U$4,Y27,$D$2='Tool-data'!$U$3,P27,$D$2='Tool-data'!$U$5,AH27)} -> 1679 | G27: {=_xlfn.IFS($D$2='Tool-data'!$U$4,Z27,$D$2='Tool-data'!$U$3,Q27,$D$2='Tool-data'!$U$5,AI27)} -> 0 | H27: {=_xlfn.IFS($D$2='Tool-data'!$U$4,AA27,$D$2='Tool-data'!$U$3,R27,$D$2='Tool-data'!$U$5,AJ27)} | I27: {=_xlfn.IFS($D$2='Tool-data'!$U$4,AB27,$D$2='Tool-data'!$U$3,S27,$D$2='Tool-data'!$U$5,AK27)} | J27: {=_xlfn.IFS($D$2='Tool-data'!$U$4,AC27,$D$2='Tool-data'!$U$3,T27,$D$2='Tool-data'!$U$5,AL27)} | M27: 12V140 AV | N27: 9 | O27: 12.6 | P27: 1679 | Q27: =IF($D$13>N27,IFERROR(VLOOKUP($D$13,'Tool-data'!$I$4:$J$40,2,TRUE),0),0) -> 0 | R27: =IFERROR(P27/$D$15*(1-Q27),"") | S27: =IFERROR(P27/$D$15*0.95,"") | T27: =IF($D$14=0,"",IF(O27>$D$14,"necessary",IF(S27>R27,"recommended","No"))) | V27: 12V140 AV | W27: 9 | X27: 12.6 | Y27: 1679 | Z27: =IF($D$13>W27,IFERROR(VLOOKUP($D$13,'Tool-data'!$I$4:$J$40,2,TRUE),0),0) -> 0 | AA27: =IFERROR(Y27/$D$15*(1-Z27),"") | AB27: =IFERROR(Y27/$D$15*0.95,"") | AC27: =IF($D$14=0,"",IF(X27>$D$14,"noodzakelijk",IF(AB27>AA27,"Aanbevolen","Nee"))) | AE27: 12V140 AV | AF27: 9 | AG27: 12.6 | AH27: 1679 | AI27: =IF($D$13>AF27,IFERROR(VLOOKUP($D$13,'Tool-data'!$L$4:$M$49,2,TRUE),0),0) -> 0 | AJ27: =IFERROR(AH27/$D$15*(1-AI27),"") | AK27: =IFERROR(AH27/$D$15*0.95,"") | AL27: =IF($D$14=0,"",IF(AG27>$D$14,$AM$20,IF(AK27>AJ27,$AM$19,$AM$18)))
C28: {=_xlfn.IFS($D$2='Tool-data'!$U$4,V28,$D$2='Tool-data'!$U$3,M28,$D$2='Tool-data'!$U$5,AE28)} -> 12V190 AV | D28: {=_xlfn.IFS($D$2='Tool-data'!$U$4,W28,$D$2='Tool-data'!$U$3,N28,$D$2='Tool-data'!$U$5,AF28)} -> 9 | E28: {=_xlfn.IFS($D$2='Tool-data'!$U$4,X28,$D$2='Tool-data'!$U$3,O28,$D$2='Tool-data'!$U$5,AG28)} -> 12.6 | F28: {=_xlfn.IFS($D$2='Tool-data'!$U$4,Y28,$D$2='Tool-data'!$U$3,P28,$D$2='Tool-data'!$U$5,AH28)} -> 2300 | G28: {=_xlfn.IFS($D$2='Tool-data'!$U$4,Z28,$D$2='Tool-data'!$U$3,Q28,$D$2='Tool-data'!$U$5,AI28)} -> 0 | H28: {=_xlfn.IFS($D$2='Tool-data'!$U$4,AA28,$D$2='Tool-data'!$U$3,R28,$D$2='Tool-data'!$U$5,AJ28)} | I28: {=_xlfn.IFS($D$2='Tool-data'!$U$4,AB28,$D$2='Tool-data'!$U$3,S28,$D$2='Tool-data'!$U$5,AK28)} | J28: {=_xlfn.IFS($D$2='Tool-data'!$U$4,AC28,$D$2='Tool-data'!$U$3,T28,$D$2='Tool-data'!$U$5,AL28)} | M28: 12V190 AV | N28: 9 | O28: 12.6 | P28: 2300 | Q28: =IF($D$13>N28,IFERROR(VLOOKUP($D$13,'Tool-data'!$I$4:$J$40,2,TRUE),0),0) -> 0 | R28: =IFERROR(P28/$D$15*(1-Q28),"") | S28: =IFERROR(P28/$D$15*0.95,"") | T28: =IF($D$14=0,"",IF(O28>$D$14,"necessary",IF(S28>R28,"recommended","No"))) | V28: 12V190 AV | W28: 9 | X28: 12.6 | Y28: 2300 | Z28: =IF($D$13>W28,IFERROR(VLOOKUP($D$13,'Tool-data'!$I$4:$J$40,2,TRUE),0),0) -> 0 | AA28: =IFERROR(Y28/$D$15*(1-Z28),"") | AB28: =IFERROR(Y28/$D$15*0.95,"") | AC28: =IF($D$14=0,"",IF(X28>$D$14,"noodzakelijk",IF(AB28>AA28,"Aanbevolen","Nee"))) | AE28: 12V190 AV | AF28: 9 | AG28: 12.6 | AH28: 2300 | AI28: =IF($D$13>AF28,IFERROR(VLOOKUP($D$13,'Tool-data'!$L$4:$M$49,2,TRUE),0),0) -> 0 | AJ28: =IFERROR(AH28/$D$15*(1-AI28),"") | AK28: =IFERROR(AH28/$D$15*0.95,"") | AL28: =IF($D$14=0,"",IF(AG28>$D$14,$AM$20,IF(AK28>AJ28,$AM$19,$AM$18)))
C29: {=_xlfn.IFS($D$2='Tool-data'!$U$4,V29,$D$2='Tool-data'!$U$3,M29,$D$2='Tool-data'!$U$5,AE29)} -> 12V80 PRO | D29: {=_xlfn.IFS($D$2='Tool-data'!$U$4,W29,$D$2='Tool-data'!$U$3,N29,$D$2='Tool-data'!$U$5,AF29)} -> 10 | E29: {=_xlfn.IFS($D$2='Tool-data'!$U$4,X29,$D$2='Tool-data'!$U$3,O29,$D$2='Tool-data'!$U$5,AG29)} -> 13.6 | F29: {=_xlfn.IFS($D$2='Tool-data'!$U$4,Y29,$D$2='Tool-data'!$U$3,P29,$D$2='Tool-data'!$U$5,AH29)} -> 1002 | G29: {=_xlfn.IFS($D$2='Tool-data'!$U$4,Z29,$D$2='Tool-data'!$U$3,Q29,$D$2='Tool-data'!$U$5,AI29)} -> 0 | H29: {=_xlfn.IFS($D$2='Tool-data'!$U$4,AA29,$D$2='Tool-data'!$U$3,R29,$D$2='Tool-data'!$U$5,AJ29)} | I29: {=_xlfn.IFS($D$2='Tool-data'!$U$4,AB29,$D$2='Tool-data'!$U$3,S29,$D$2='Tool-data'!$U$5,AK29)} | J29: {=_xlfn.IFS($D$2='Tool-data'!$U$4,AC29,$D$2='Tool-data'!$U$3,T29,$D$2='Tool-data'!$U$5,AL29)} | M29: 12V80 PRO | N29: 10 | O29: 13.6 | P29: 1002 | Q29: =IF($D$13>N29,IFERROR(VLOOKUP($D$13,'Tool-data'!$L$4:$M$49,2,TRUE),0),0) -> 0 | R29: =IFERROR(P29/$D$15*(1-Q29),"") | S29: =IFERROR(P29/$D$15*0.95,"") | T29: =IF($D$14=0,"",IF(O29>$D$14,"necessary",IF(S29>R29,"recommended","No"))) | V29: 12V80 PRO | W29: 10 | X29: 13.6 | Y29: 1002 | Z29: =IF($D$13>W29,IFERROR(VLOOKUP($D$13,'Tool-data'!$L$4:$M$49,2,TRUE),0),0) -> 0 | AA29: =IFERROR(Y29/$D$15*(1-Z29),"") | AB29: =IFERROR(Y29/$D$15*0.95,"") | AC29: =IF($D$14=0,"",IF(X29>$D$14,"noodzakelijk",IF(AB29>AA29,"Aanbevolen","Nee"))) | AE29: 12V80 PRO | AF29: 10 | AG29: 13.6 | AH29: 1002 | AI29: =IF($D$13>AF29,IFERROR(VLOOKUP($D$13,'Tool-data'!$L$4:$M$49,2,TRUE),0),0) -> 0 | AJ29: =IFERROR(AH29/$D$15*(1-AI29),"") | AK29: =IFERROR(AH29/$D$15*0.95,"") | AL29: =IF($D$14=0,"",IF(AG29>$D$14,$AM$20,IF(AK29>AJ29,$AM$19,$AM$18)))
C30: {=_xlfn.IFS($D$2='Tool-data'!$U$4,V30,$D$2='Tool-data'!$U$3,M30,$D$2='Tool-data'!$U$5,AE30)} -> 12V120 PRO | D30: {=_xlfn.IFS($D$2='Tool-data'!$U$4,W30,$D$2='Tool-data'!$U$3,N30,$D$2='Tool-data'!$U$5,AF30)} -> 10 | E30: {=_xlfn.IFS($D$2='Tool-data'!$U$4,X30,$D$2='Tool-data'!$U$3,O30,$D$2='Tool-data'!$U$5,AG30)} -> 13.6 | F30: {=_xlfn.IFS($D$2='Tool-data'!$U$4,Y30,$D$2='Tool-data'!$U$3,P30,$D$2='Tool-data'!$U$5,AH30)} -> 1540 | G30: {=_xlfn.IFS($D$2='Tool-data'!$U$4,Z30,$D$2='Tool-data'!$U$3,Q30,$D$2='Tool-data'!$U$5,AI30)} -> 0 | H30: {=_xlfn.IFS($D$2='Tool-data'!$U$4,AA30,$D$2='Tool-data'!$U$3,R30,$D$2='Tool-data'!$U$5,AJ30)} | I30: {=_xlfn.IFS($D$2='Tool-data'!$U$4,AB30,$D$2='Tool-data'!$U$3,S30,$D$2='Tool-data'!$U$5,AK30)} | J30: {=_xlfn.IFS($D$2='Tool-data'!$U$4,AC30,$D$2='Tool-data'!$U$3,T30,$D$2='Tool-data'!$U$5,AL30)} | M30: 12V120 PRO | N30: 10 | O30: 13.6 | P30: 1540 | Q30: =IF($D$13>N30,IFERROR(VLOOKUP($D$13,'Tool-data'!$L$4:$M$49,2,TRUE),0),0) -> 0 | R30: =IFERROR(P30/$D$15*(1-Q30),"") | S30: =IFERROR(P30/$D$15*0.95,"") | T30: =IF($D$14=0,"",IF(O30>$D$14,"necessary",IF(S30>R30,"recommended","No"))) | V30: 12V120 PRO | W30: 10 | X30: 13.6 | Y30: 1540 | Z30: =IF($D$13>W30,IFERROR(VLOOKUP($D$13,'Tool-data'!$L$4:$M$49,2,TRUE),0),0) -> 0 | AA30: =IFERROR(Y30/$D$15*(1-Z30),"") | AB30: =IFERROR(Y30/$D$15*0.95,"") | AC30: =IF($D$14=0,"",IF(X30>$D$14,"noodzakelijk",IF(AB30>AA30,"Aanbevolen","Nee"))) | AE30: 12V120 PRO | AF30: 10 | AG30: 13.6 | AH30: 1540 | AI30: =IF($D$13>AF30,IFERROR(VLOOKUP($D$13,'Tool-data'!$L$4:$M$49,2,TRUE),0),0) -> 0 | AJ30: =IFERROR(AH30/$D$15*(1-AI30),"") | AK30: =IFERROR(AH30/$D$15*0.95,"") | AL30: =IF($D$14=0,"",IF(AG30>$D$14,$AM$20,IF(AK30>AJ30,$AM$19,$AM$18)))

Sheet Tool-data
C1: Ingangsvoltage
B2: Schermen | C2: Min | D2: Max | E2: A | F2: Watt | I2: AV Line | L2: Pro Line en Edge | O2: Edge 24V | R2: Gewenste uren | U2: Talen | W2: Voltage (V) | X2: State of Charge (%)
B3: Humminbird (ICE) Helix 5 | C3: 10.8 | D3: 20 | E3: 0.6 | F3: 7 | I3: V | J3: % | L3: V | M3: % | O3: V | P3: % | R3: 1 | U3: EN | W3: 10 | X3: 0
B4: Humminbird (ICE) Helix 7 | C4: 10.8 | D4: 20 | E4: 0.8 | F4: 10 | I4: 9 | J4: 0 | L4: 10 | M4: 0 | O4: =L4*2 -> 20 | P4: 0 | R4: 2 | U4: NL | W4: 12 | X4: 10
B5: Humminbird Helix 8 | C5: 10.8 | D5: 20 | E5: 2.4 | F5: 29 | I5: 9.1 | J5: 0.002 | L5: 10.01 | M5: 0.0005 | O5: =L5*2 -> 20.02 | P5: 0.0005 | R5: 3 | U5: DE | W5: 12.8 | X5: 20
B6: Humminbird Helix 9 | C6: 10.8 | D6: 20 | E6: 2.4 | F6: 29 | I6: 9.2 | J6: 0.01 | L6: 10.02 | M6: 0.001 | O6: =L6*2 -> 20.04 | P6: 0.001 | R6: 4 | W6: 12.88 | X6: 30
B7: Humminbird Helix 10 | C7: 10.8 | D7: 20 | E7: 2.7 | F7: 32 | I7: 9.3 | J7: 0.018 | L7: 10.03 | M7: 0.0015 | O7: =L7*2 -> 20.06 | P7: 0.0015 | R7: 5 | W7: 13 | X7: 40
B8: Humminbird Helix 12 | C8: 10.8 | D8: 20 | E8: 3.2 | F8: 38 | I8: 9.4 | J8: 0.026 | L8: 10.04 | M8: 0.002 | O8: =L8*2 -> 20.08 | P8: 0.002 | R8: 6 | W8: 13.04 | X8: 50
B9: Humminbird Helix 15 | C9: 10.8 | D9: 20 | E9: 4 | F9: 48 | I9: 9.5 | J9: 0.034 | L9: 10.05 | M9: 0.0025 | O9: =L9*2 -> 20.1 | P9: 0.0025 | R9: 7 | W9: 13.08 | X9: 60
B10: Humminbird Apex 13 | C10: 10.8 | D10: 20 | E10: 3.1 | F10: 37.2 | I10: 9.6 | J10: 0.042 | L10: 10.06 | M10: 0.003 | O10: =L10*2 -> 20.12 | P10: 0.003 | R10: 8 | W10: 13.2 | X10: 70
B11: Humminbird Apex 16 | C11: 10.8 | D11: 20 | E11: 4.3 | F11: 51.6 | I11: 9.7 | J11: 0.05 | L11: 10.07 | M11: 0.0035 | O11: =L11*2 -> 20.14 | P11: 0.0035 | R11: 9 | W11: 13.28 | X11: 80
B12: Humminbird Apex 19 | C12: 10.8 | D12: 20 | E12: 4.4 | F12: 52.8 | I12: 9.8 | J12: 0.058 | L12: 10.08 | M12: 0.004 | O12: =L12*2 -> 20.16 | P12: 0.004 | R12: 10 | W12: 13.4 | X12: 90
B13: Humminbird Solix 12 | C13: 10.8 | D13: 20 | E13: 2.7 | F13: 32.4 | I13: 9.9 | J13: 0.066 | L13: 10.09 | M13: 0.0045 | O13: =L13*2 -> 20.18 | P13: 0.0045 | R13: 11 | W13: 14.6 | X13: 100
B14: Humminbird Solix 15 | C14: 10.8 | D14: 20 | E14: 2.8 | F14: 33.6 | I14: 10 | J14: 0.074 | L14: 10.1 | M14: 0.005 | O14: =L14*2 -> 20.2 | P14: 0.005 | R14: 12
B15: Humminbird Onix 8 / Onix 10 | C15: 10.8 | D15: 20 | E15: 2.5 | F15: 30 | I15: 10.1 | J15: 0.082 | L15: 10.11 | M15: 0.0055 | O15: =L15*2 -> 20.22 | P15: 0.0055 | R15: 13
B16: Humminbird Piranhamax 4 | C16: 10.8 | D16: 20 | E16: 0.2 | F16: 2.4 | I16: 10.2 | J16: 0.09 | L16: 10.12 | M16: 0.006 | O16: =L16*2 -> 20.24 | P16: 0.006 | R16: 14
B17: Humminbird ICE 35 Flasher | C17: 10.8 | D17: 20 | E17: 0.2 | F17: 2.4 | I17: 10.3 | J17: 0.12 | L17: 10.13 | M17: 0.0065 | O17: =L17*2 -> 20.26 | P17: 0.0065 | R17: 15
B18: Humminbird Solix 10 | C18: 10.8 | D18: 20 | E18: 2.5 | F18: 30 | I18: 10.4 | J18: 0.17 | L18: 10.14 | M18: 0.007 | O18: =L18*2 -> 20.28 | P18: 0.007 | R18: 16
B19: Humminbird MEGA 360 | C19: 10.8 | D19: 20 | E19: 0.5 | F19: 6 | I19: 10.5 | J19: 0.25 | L19: 10.15 | M19: 0.0075 | O19: =L19*2 -> 20.3 | P19: 0.0075 | R19: 17
B20: Humminbird MEGA LIVE and targetlock | C20: 10.8 | D20: 20 | E20: 0.93 | F20: 11.16 | I20: 10.6 | J20: 0.3 | L20: 10.16 | M20: 0.008 | O20: =L20*2 -> 20.32 | P20: 0.008 | R20: 18
B21: Humminbird Mega Live 2 | C21: 10.8 | D21: 20 | E21: 2.5 | F21: =E21*12 -> 30 | I21: 10.7 | J21: 0.4 | L21: 10.17 | M21: 0.0085 | O21: =L21*2 -> 20.34 | P21: 0.0085 | R21: 19
B22: Humminbird XPLORE 9 CMSI+ | C22: 10.8 | D22: 20 | E22: 2.5 | F22: =E22*12 -> 30 | I22: 10.8 | J22: 0.5 | L22: 10.18 | M22: 0.009 | O22: =L22*2 -> 20.36 | P22: 0.009 | R22: 20
B23: Humminbird XPLORE 10 CMSI+ | C23: 10.8 | D23: 20 | E23: 2.7 | F23: =E23*12 -> 32.4 | I23: 10.9 | J23: 0.52 | L23: 10.19 | M23: 0.0095 | O23: =L23*2 -> 20.38 | P23: 0.0095 | R23: 21
B24: Humminbird XPLORE 12 CMSI+ | C24: 10.8 | D24: 20 | E24: 3.2 | F24: =E24*12 -> 38.4 | I24: 11 | J24: 0.56 | L24: 10.2 | M24: 0.01 | O24: =L24*2 -> 20.4 | P24: 0.01 | R24: 22
B25: Humminbird Targetlock | C25: 10.8 | D25: 20 | E25: 0.5 | F25: 6 | I25: 11.1 | J25: 0.6 | L25: 10.21 | M25: 0.0105 | O25: =L25*2 -> 20.42 | P25: 0.0105 | R25: 23
B26: Lowrance Elite 5 | C26: 10 | D26: 17 | E26: 0.9 | F26: 12 | I26: 11.2 | J26: 0.64 | L26: 10.22 | M26: 0.011 | O26: =L26*2 -> 20.44 | P26: 0.011 | R26: 24
B27: Lowrance Elite 7/9 | C27: 10 | D27: 17 | E27: 1 | F27: 12 | I27: 11.3 | J27: 0.68 | L27: 10.23 | M27: 0.0115 | O27: =L27*2 -> 20.46 | P27: 0.0115 | R27: 25
B28: Lowrance Elite Ti2 7 | C28: 10 | D28: 17 | E28: 1 | F28: 12 | I28: 11.4 | J28: 0.72 | L28: 10.24 | M28: 0.012 | O28: =L28*2 -> 20.48 | P28: 0.012 | R28: 26
B29: Lowrance Elite Ti2 9 | C29: 10 | D29: 17 | E29: 1 | F29: 12 | I29: 11.5 | J29: 0.76 | L29: 10.25 | M29: 0.0125 | O29: =L29*2 -> 20.5 | P29: 0.0125 | R29: 27
B30: Lowrance Elite Ti2 12 | C30: 10 | D30: 17 | E30: 1.8 | F30: 22 | I30: 11.6 | J30: 0.8 | L30: 10.26 | M30: 0.013 | O30: =L30*2 -> 20.52 | P30: 0.013 | R30: 28
B31: Lowrance Elite FS 7 | C31: 10.8 | D31: 17 | E31: 2.2 | F31: 26 | I31: 11.7 | J31: 0.82 | L31: 10.27 | M31: 0.0135 | O31: =L31*2 -> 20.54 | P31: 0.0135 | R31: 29
B32: Lowrance Elite FS 9 | C32: 10.8 | D32: 17 | E32: 2.3 | F32: 26 | I32: 11.8 | J32: 0.84 | L32: 10.28 | M32: 0.014 | O32: =L32*2 -> 20.56 | P32: 0.014 | R32: 30
B33: Lowrance HOOK 5 | C33: 10.8 | D33: 17 | E33: 0.9 | F33: 12 | I33: 11.9 | J33: 0.86 | L33: 10.29 | M33: 0.0145 | O33: =L33*2 -> 20.58 | P33: 0.0145 | R33: 31
B34: Lowrance HOOK 7 | C34: 10.8 | D34: 17 | E34: 1.25 | F34: 16 | I34: 12 | J34: 0.88 | L34: 10.3 | M34: 0.015 | O34: =L34*2 -> 20.6 | P34: 0.015 | R34: 32
B35: Lowrance HOOK 9 | C35: 10.8 | D35: 17 | E35: 1.5 | F35: 20 | I35: 12.1 | J35: 0.9 | L35: 10.31 | M35: 0.0155 | O35: =L35*2 -> 20.62 | P35: 0.0155 | R35: 33
B36: Lowrance HDS Live 7 | C36: 10.8 | D36: 17 | E36: 1.5 | F36: 20 | I36: 12.2 | J36: 0.92 | L36: 10.32 | M36: 0.016 | O36: =L36*2 -> 20.64 | P36: 0.016 | R36: 34
B37: Lowrance HDS Live 9 | C37: 10.8 | D37: 17 | E37: 1.8 | F37: 23 | I37: 12.3 | J37: 0.94 | L37: 10.33 | M37: 0.0165 | O37: =L37*2 -> 20.66 | P37: 0.0165 | R37: 35
B38: Lowrance HDS Live 12 | C38: 10.8 | D38: 17 | E38: 2 | F38: =E38*13 -> 26 | I38: 12.4 | J38: 0.96 | L38: 10.34 | M38: 0.017 | O38: =L38*2 -> 20.68 | P38: 0.017 | R38: 36
B39: Lowrance HDS Live 16 | C39: 10.8 | D39: 17 | E39: 2.8 | F39: 36 | I39: 12.5 | J39: 0.98 | L39: 10.35 | M39: 0.0175 | O39: =L39*2 -> 20.7 | P39: 0.0175 | R39: 37
B40: Lowrance HDS Carbon 7 | C40: 10.8 | D40: 17 | E40: 1.5 | F40: 20 | I40: 12.6 | J40: 1 | L40: 10.36 | M40: 0.018 | O40: =L40*2 -> 20.72 | P40: 0.018 | R40: 38
B41: Lowrance HDS Carbon 9 | C41: 10.8 | D41: 17 | E41: 1.75 | F41: 23 | L41: 10.37 | M41: 0.0185 | O41: =L41*2 -> 20.74 | P41: 0.0185 | R41: 39
B42: Lowrance HDS Carbon 12 | C42: 10.8 | D42: 17 | E42: 2 | F42: =E42*13 -> 26 | L42: 10.38 | M42: 0.019 | O42: =L42*2 -> 20.76 | P42: 0.019 | R42: 40
B43: Lowrance HDS Carbon 16 | C43: 10.8 | D43: 17 | E43: 2.8 | F43: 36 | L43: 10.39 | M43: 0.0195 | O43: =L43*2 -> 20.78 | P43: 0.0195 | R43: 41
B44: Lowrance HDS Gen1 5 | C44: 10 | D44: 18 | E44: 0.7 | F44: 9 | L44: 10.4 | M44: 0.02 | O44: =L44*2 -> 20.8 | P44: 0.02 | R44: 42
B45: Lowrance HDS Gen1 7 | C45: 10 | D45: 18 | E45: 0.8 | F45: 10 | L45: 10.41 | M45: 0.0205 | O45: =L45*2 -> 20.82 | P45: 0.0205 | R45: 43
B46: Lowrance HDS Gen1 8 | C46: 10 | D46: 18 | E46: 0.9 | F46: 12 | L46: 10.42 | M46: 0.021 | O46: =L46*2 -> 20.84 | P46: 0.021 | R46: 44
B47: Lowrance HDS Gen1 10 | C47: 10 | D47: 18 | E47: 1 | F47: =E47*13 -> 13 | L47: 10.43 | M47: 0.0215 | O47: =L47*2 -> 20.86 | P47: 0.0215 | R47: 45
B48: Lowrance HDS Gen2 7 | C48: 10.8 | D48: 17 | E48: 0.9 | F48: 12 | L48: 10.44 | M48: 0.022 | O48: =L48*2 -> 20.88 | P48: 0.022 | R48: 46
B49: Lowrance HDS Gen2 9 | C49: 10.8 | D49: 17 | E49: 1.2 | F49: 16 | L49: 10.45 | M49: 0.0225 | O49: =L49*2 -> 20.9 | P49: 0.0225 | R49: 47
B50: Lowrance HDS Gen2 12 | C50: 10.8 | D50: 17 | E50: 2 | F50: =E50*13 -> 26 | L50: 10.46 | M50: 0.023 | O50: =L50*2 -> 20.92 | P50: 0.023 | R50: 48
B51: Lowrance HDS Gen3 7 | C51: 10.8 | D51: 17 | E51: 0.9 | F51: 12 | L51: 10.47 | M51: 0.0235 | O51: =L51*2 -> 20.94 | P51: 0.0235 | R51: 49
B52: Lowrance HDS Gen3 9 | C52: 10.8 | D52: 17 | E52: 1.2 | F52: 16 | L52: 10.48 | M52: 0.024 | O52: =L52*2 -> 20.96 | P52: 0.024 | R52: 50
B53: Lowrance HDS Gen3 12 | C53: 10.8 | D53: 17 | E53: 2 | F53: 26 | L53: 10.49 | M53: 0.0245 | O53: =L53*2 -> 20.98 | P53: 0.0245
B54: Lowrance HDS PRO 9 | C54: 10.8 | D54: 17 | E54: 2.9 | F54: 40 | L54: 10.5 | M54: 0.025 | O54: =L54*2 -> 21 | P54: 0.025
B55: Lowrance HDS PRO 10 | C55: 10.8 | D55: 17 | E55: 2.9 | F55: 40 | L55: 10.51 | M55: 0.0255 | O55: =L55*2 -> 21.02 | P55: 0.0255
B56: Lowrance HDS PRO 12 | C56: 10.8 | D56: 17 | E56: 3.6 | F56: 48 | L56: 10.52 | M56: 0.026 | O56: =L56*2 -> 21.04 | P56: 0.026
B57: Lowrance HDS PRO 16 | C57: 10.8 | D57: 17 | E57: 4.1 | F57: 58 | L57: 10.53 | M57: 0.0265 | O57: =L57*2 -> 21.06 | P57: 0.0265
B58: Lowrance Active target transducer | C58: 10.8 | D58: 17 | E58: 1.5 | F58: 18 | L58: 10.54 | M58: 0.027 | O58: =L58*2 -> 21.08 | P58: 0.027
B59: Raymarine Dragonfly 4DV | C59: 10.8 | D59: 15.6 | E59: 0.3 | F59: 3 | L59: 10.55 | M59: 0.0275 | O59: =L59*2 -> 21.1 | P59: 0.0275
B60: Raymarine Dragonfly 4DVS / 4PRO | C60: 10.8 | D60: 15.6 | E60: 0.3 | F60: 4 | L60: 10.56 | M60: 0.028 | O60: =L60*2 -> 21.12 | P60: 0.028
B61: Raymarine Dragonfly 5 Pro | C61: 10.8 | D61: 15.6 | E61: 0.4 | F61: 5 | L61: 10.57 | M61: 0.0285 | O61: =L61*2 -> 21.14 | P61: 0.0285
B62: Raymarine Dragonfly 6 | C62: 8 | D62: 15.6 | E62: 0.8 | F62: 10 | L62: 10.58 | M62: 0.029 | O62: =L62*2 -> 21.16 | P62: 0.029
B63: Raymarine Dragonfly 7 PRO | C63: 8 | D63: 15.6 | E63: 0.8 | F63: 9 | L63: 10.59 | M63: 0.0295 | O63: =L63*2 -> 21.18 | P63: 0.0295
B64: Raymarine AXIOM 7 PRO / Chartplotter | C64: 8 | D64: 16 | E64: 0.6 | F64: 7 | L64: 10.6 | M64: 0.03 | O64: =L64*2 -> 21.2 | P64: 0.03
... B166: Garmin GPSmap 1223 | C166: 10 | D166: 32 | E166: 1.7 | F166: 27 | L166: 11.62 | M166: 0.081 | O166: =L166*2 -> 23.24 | P166: 0.081
L167: 11.63 | M167: 0.0815 | O167: =L167*2 -> 23.26 | P167: 0.0815
L168: 11.64 | M168: 0.082 | O168: =L168*2 -> 23.28 | P168: 0.082
L169: 11.65 | M169: 0.0825 | O169: =L169*2 -> 23.3 | P169: 0.0825
L170: 11.66 | M170: 0.083 | O170: =L170*2 -> 23.32 | P170: 0.083
L171: 11.67 | M171: 0.0835 | O171: =L171*2 -> 23.34 | P171: 0.0835
L172: 11.68 | M172: 0.084 | O172: =L172*2 -> 23.36 | P172: 0.084
L173: 11.69 | M173: 0.0845 | O173: =L173*2 -> 23.38 | P173: 0.0845
L174: 11.7 | M174: 0.085 | O174: =L174*2 -> 23.4 | P174: 0.085
L175: 11.71 | M175: 0.0855 | O175: =L175*2 -> 23.42 | P175: 0.0855
L176: 11.72 | M176: 0.086 | O176: =L176*2 -> 23.44 | P176: 0.086
L177: 11.73 | M177: 0.0865 | O177: =L177*2 -> 23.46 | P177: 0.0865
L178: 11.74 | M178: 0.087 | O178: =L178*2 -> 23.48 | P178: 0.087
... L203: 11.99 | M203: 0.0995 | O203: =L203*2 -> 23.98 | P203: 0.0995
L204: 12 | M204: 0.1 | O204: =L204*2 -> 24 | P204: 0.1 | Q204: =0.1/((L204-_xlfn.XLOOKUP(M204-0.1,M4:M464,L4:L464,"",0,1))/0.01) -> 0.0005
L205: 12.01 | M205: 0.10125 | O205: =L205*2 -> 24.02 | P205: 0.10125
L206: 12.02 | M206: 0.1025 | O206: =L206*2 -> 24.04 | P206: 0.1025
L207: 12.03 | M207: 0.10375 | O207: =L207*2 -> 24.06 | P207: 0.10375
L208: 12.04 | M208: 0.105 | O208: =L208*2 -> 24.08 | P208: 0.105
L209: 12.05 | M209: 0.10625 | O209: =L209*2 -> 24.1 | P209: 0.10625
L210: 12.06 | M210: 0.1075 | O210: =L210*2 -> 24.12 | P210: 0.1075
L211: 12.07 | M211: 0.10875 | O211: =L211*2 -> 24.14 | P211: 0.10875
L212: 12.08 | M212: 0.11 | O212: =L212*2 -> 24.16 | P212: 0.11
L213: 12.09 | M213: 0.11125 | O213: =L213*2 -> 24.18 | P213: 0.11125
L214: 12.1 | M214: 0.1125 | O214: =L214*2 -> 24.2 | P214: 0.1125
L215: 12.11 | M215: 0.11375 | O215: =L215*2 -> 24.22 | P215: 0.11375
L216: 12.12 | M216: 0.115 | O216: =L216*2 -> 24.24 | P216: 0.115
... L283: 12.79 | M283: 0.19875 | O283: =L283*2 -> 25.58 | P283: 0.19875
L284: 12.8 | M284: 0.2 | O284: =L284*2 -> 25.6 | P284: 0.2 | Q284: =0.1/((L284-_xlfn.XLOOKUP(M284-0.1,M84:M544,L84:L544,"",0,1))/0.01) -> 0.00125
L285: 12.81 | M285: 0.2125 | O285: =L285*2 -> 25.62 | P285: 0.2125
L286: 12.82 | M286: 0.225 | O286: =L286*2 -> 25.64 | P286: 0.225
L287: 12.83 | M287: 0.2375 | O287: =L287*2 -> 25.66 | P287: 0.2375
L288: 12.84 | M288: 0.25 | O288: =L288*2 -> 25.68 | P288: 0.25
L289: 12.85 | M289: 0.2625 | O289: =L289*2 -> 25.7 | P289: 0.2625
L290: 12.86 | M290: 0.275 | O290: =L290*2 -> 25.72 | P290: 0.275
L291: 12.87 | M291: 0.2875 | O291: =L291*2 -> 25.74 | P291: 0.2875
...
