Workbook
Name Schakelin: '2.Volt-amp-watt'!$S$2:$S$3

Sheet 1.Explanation_and_contents
B6: Choose language | D6: EN
B7: {=_xlfn.IFS($D$6=Validation!$O$2,Q7,$D$6=Validation!$O$3,AA7,$D$6=Validation!$O$4,AM7)} -> Calculations for electric boating and fishing equipment | Q7: Berekeningen voor elektrisch varen en visapparatuur | AA7: Calculations for electric boating and fishing equipment | AM7: Berechnungen für elektrisches Bootfahren und Angelausrüstung
B8: {=_xlfn.IFS($D$6=Validation!$O$2,Q8,$D$6=Validation!$O$3,AA8,$D$6=Validation!$O$4,AM8)} -> In this document you will find several useful calculation tools for electric boating, battery usage | Q8: In dit bestand vindt u meerdere handige rekentools voor elektrisch varen en het gebruik van accu's | AA8: In this document you will find several useful calculation tools for electric boating, battery usage | AM8: In diesem Dokument finden Sie einige nützliche Berechnungshilfen für Elektroboote, Batterieverbrauch
B11: {=_xlfn.IFS($D$6=Validation!$O$2,Q11,$D$6=Validation!$O$3,AA11,$D$6=Validation!$O$4,AM11)} -> Explanation | Q11: Uitleg | AA11: Explanation | AM11: Erläuterung
B12: {=_xlfn.IFS($D$6=Validation!$O$2,Q12,$D$6=Validation!$O$3,AA12,$D$6=Validation!$O$4,AM12)} -> We have tried to make this file as user-friendly as possible. Please read the instructions carefully. If you have any further questions please feel free to contact us | Q12: We hebben getracht dit bestand zo gebruiksvriendelijk te maken. Lees de instructies goed door. Indien u nog vragen heeft kunt u altijd contact met ons opnemen | AA12: We have tried to make this file as user-friendly as possible. Please read the instructions carefully. If you have any further questions please feel free to contact us | AM12: Wir haben uns bemüht, diese Datei so benutzerfreundlich wie möglich zu gestalten. Bitte lesen Sie die Anweisungen sorgfältig durch. Wenn Sie weitere Fragen haben, können Sie sich gerne an uns wenden.
B13: {=_xlfn.IFS($D$6=Validation!$O$2,Q13,$D$6=Validation!$O$3,AA13,$D$6=Validation!$O$4,AM13)} -> In this entire file, please fill in all the gray cells | H13: {=_xlfn.IFS($D$6=Validation!$O$2,W13,$D$6=Validation!$O$3,AG13,$D$6=Validation!$O$4,AS13)} -> You fill in these gray cells | Q13: In dit gehele bestand dient u alle de grijze vakjes in te vullen | W13: Deze grijze vakjes vult u in | AA13: In this entire file, please fill in all the gray cells | AG13: You fill in these gray cells | AM13: Füllen Sie bitte alle grauen Zellen in dieser Datei aus | AS13: Sie füllen diese grauen Zellen aus
B14: {=_xlfn.IFS($D$6=Validation!$O$2,Q14,$D$6=Validation!$O$3,AA14,$D$6=Validation!$O$4,AM14)} -> The result of the calculation is always in the green cells | H14: {=_xlfn.IFS($D$6=Validation!$O$2,W14,$D$6=Validation!$O$3,AG14,$D$6=Validation!$O$4,AS14)} -> In the green cells you will find the result of the calculation | Q14: De uitkomst van de gewenste berekening staat altijd in de groene vakjes | W14: In de groene vakjes vindt u de uitkomst van de berekening | AA14: The result of the calculation is always in the green cells | AG14: In the green cells you will find the result of the calculation | AM14: Das Ergebnis der Berechnung steht immer in den grünen Zellen | AS14: In den grünen Zellen finden Sie das Ergebnis der Berechnung
B16: {=_xlfn.IFS($D$6=Validation!$O$2,Q16,$D$6=Validation!$O$3,AA16,$D$6=Validation!$O$4,AM16)} -> Table of contents | Q16: Inhoudsopgave | AA16: Table of contents | AM16: Inhaltsverzeichnis
B17: {=_xlfn.IFS($D$6=Validation!$O$2,Q17,$D$6=Validation!$O$3,AA17,$D$6=Validation!$O$4,AM17)} -> Tab 1: explanation and table of contents | Q17: Tabblad 1: uitleg en inhoudsopgave | AA17: Tab 1: explanation and table of contents | AM17: Registerkarte 1: Erklärung und Inhaltsverzeichnis
C18: {=_xlfn.IFS($D$6=Validation!$O$2,R18,$D$6=Validation!$O$3,AB18,$D$6=Validation!$O$4,AN18)} -> You are now on this tab. | R18: Op dit tabblad bent u nu. | AB18: You are now on this tab. | AN18: Sie befinden sich jetzt auf dieser Registerkarte.
B19: {=_xlfn.IFS($D$6=Validation!$O$2,Q19,$D$6=Validation!$O$3,AA19,$D$6=Validation!$O$4,AM19)} -> Tab 2: Volt amps and watt | Q19: Tabblad 2: Volt ampere en watt | AA19: Tab 2: Volt amps and watt | AM19: Registerkarte 2: Volt, Ampere und Watt
C20: {=_xlfn.IFS($D$6=Validation!$O$2,R20,$D$6=Validation!$O$3,AB20,$D$6=Validation!$O$4,AN20)} -> Calculate the power and number of amps of an electriscche outboard motor. You can also calculate your battery capacity here. | R20: Reken het vermogen en aantal ampere van een elektriscche buitenboordmotor uit. Tevens kunt u hier uw accucapciteit berekenen. | AB20: Calculate the power and number of amps of an electriscche outboard motor. You can also calculate your battery capacity here. | AN20: Berechnen Sie die Leistung und die Amperezahl eines elektrischen Außenbordmotors. Sie können hier auch Ihre Batteriekapazität berechnen.
B21: {=_xlfn.IFS($D$6=Validation!$O$2,Q21,$D$6=Validation!$O$3,AA21,$D$6=Validation!$O$4,AM21)} -> Tab 3: Effective battery capacity and runtime | Q21: Tabblad 3: Bruikbare accucapaciteit en vaartijd | AA21: Tab 3: Effective battery capacity and runtime | AM21: Tab 3: Effektive Batteriekapazität und Laufzeit
C22: {=_xlfn.IFS($D$6=Validation!$O$2,R22,$D$6=Validation!$O$3,AB22,$D$6=Validation!$O$4,AN22)} -> Calculate here how long you can cruise based on your engine and battery pack | R22: Bereken hier hoe lang u kunt varen aan de hand van uw motor en uw accupakket | AB22: Calculate here how long you can cruise based on your engine and battery pack | AN22: Berechnen Sie hier, wie lange Sie mit Ihrem Motor und Ihrem Akkupack fahren können.
B23: {=_xlfn.IFS($D$6=Validation!$O$2,Q23,$D$6=Validation!$O$3,AA23,$D$6=Validation!$O$4,AM23)} -> Tab 4: Speed and required battery | Q23: Tabblad 4: snelheid en benodigd vermogen | AA23: Tab 4: Speed and required battery | AM23: Tab 4: Geschwindigkeit und benötigte Batterie
C24: {=_xlfn.IFS($D$6=Validation!$O$2,R24,$D$6=Validation!$O$3,AB24,$D$6=Validation!$O$4,AN24)} -> This tab shows total cruising time with different electric outboard motors and Rebelcell batteries | R24: Op dit tabblad ziet u de totale vaartijd met verschillende elektrische buitenboormotoren en Rebelcell accu's | AB24: This tab shows total cruising time with different electric outboard motors and Rebelcell batteries | AN24: Diese Registerkarte zeigt die Gesamtfahrtzeit mit verschiedenen elektrischen Außenbordmotoren und Rebelcell-Batterien

Sheet 2.Volt-amp-watt
M2: Table of contents | Q2: Lijst met voltages | S2: {=_xlfn.IFS($D$6=Validation!$O$2,U2,$D$6=Validation!$O$3,AC2,$D$6=Validation!$O$4,AI2)} -> In series | U2: In serie | AC2: In series | AI2: In Reihe
Q3: 12 | S3: {=_xlfn.IFS($D$6=Validation!$O$2,U3,$D$6=Validation!$O$3,AC3,$D$6=Validation!$O$4,AI3)} -> Parallel | U3: Parallel | AC3: Parallel | AI3: Parallel
Q4: 24
Q5: 36
B6: Choose language | D6: EN | Q6: 48
B7: {=_xlfn.IFS($D$6=Validation!$O$2,U7,$D$6=Validation!$O$3,AC7,$D$6=Validation!$O$4,AI7)} -> Volts, Amps and Watts | U7: Volt, Ampere en Watt | AC7: Volts, Amps and Watts | AI7: Volt, Ampere und Watt
B8: {=_xlfn.IFS($D$6=Validation!$O$2,U8,$D$6=Validation!$O$3,AC8,$D$6=Validation!$O$4,AI8)} -> On this tab you will find some useful calculation tools to quickly calculate the power, number of watts or capacity of your battery | U8: Op dit tabblad vindt u enkele handige rekentools om snel het vermogen, aantal watt of de capaciteit van uw accu uit te rekenen | AC8: On this tab you will find some useful calculation tools to quickly calculate the power, number of watts or capacity of your battery | AI8: Auf dieser Registerkarte finden Sie einige nützliche Berechnungshilfen, um schnell die Leistung, die Wattzahl oder die Kapazität Ihrer Batterie zu ermitteln
B11: {=_xlfn.IFS($D$6=Validation!$O$2,U11,$D$6=Validation!$O$3,AC11,$D$6=Validation!$O$4,AI11)} -> If you want to know the power (Watts) of your motor | U11: Indien u het vermogen (Watt) van uw motor wil weten | AC11: If you want to know the power (Watts) of your motor | AI11: Wenn Sie die Leistung (Watt) Ihres Motors wissen möchten
B12: {=_xlfn.IFS($D$6=Validation!$O$2,U12,$D$6=Validation!$O$3,AC12,$D$6=Validation!$O$4,AI12)} -> Number of volts (V) of your motor or device | F12: {=_xlfn.IFS($D$6=Validation!$O$2,Y12,$D$6=Validation!$O$3,AG12,$D$6=Validation!$O$4,AM12)} -> Volt | U12: Aantal volt (V) van uw motor of apparaat | X12: 36 | Y12: Volt | AC12: Number of volts (V) of your motor or device | AF12: 36 | AG12: Volt | AI12: Anzahl der Volt (V) Ihres Motors oder Geräts | AM12: Volt
B13: {=_xlfn.IFS($D$6=Validation!$O$2,U13,$D$6=Validation!$O$3,AC13,$D$6=Validation!$O$4,AI13)} -> Number of amps the motor draws | F13: {=_xlfn.IFS($D$6=Validation!$O$2,Y13,$D$6=Validation!$O$3,AG13,$D$6=Validation!$O$4,AM13)} -> Amps | U13: Aantal ampere dat de motor trekt | X13: 11 | Y13: Ampere | AC13: Number of amps the motor draws | AF13: 11 | AG13: Amps | AI13: Die Anzahl der Ampere, die der Motor zieht | AM13: Amps
B14: {=_xlfn.IFS($D$6=Validation!$O$2,U14,$D$6=Validation!$O$3,AC14,$D$6=Validation!$O$4,AI14)} -> The power (Watt) of the motor | E14: =E13*E12 -> 0 | F14: {=_xlfn.IFS($D$6=Validation!$O$2,Y14,$D$6=Validation!$O$3,AG14,$D$6=Validation!$O$4,AM14)} -> W | U14: Het vermogen (Watt) van de motor | X14: =X13*X12 -> 396 | Y14: W | AC14: The power (Watt) of the motor | AF14: =AF13*AF12 -> 396 | AG14: W | AI14: Die Leistung (Watt) des Motors | AM14: W
B16: {=_xlfn.IFS($D$6=Validation!$O$2,U16,$D$6=Validation!$O$3,AC16,$D$6=Validation!$O$4,AI16)} -> If you want to know the amperage (ampere) of the motor | U16: Indien u de stroomsterkt (ampere) van de motor wilt weten | AC16: If you want to know the amperage (ampere) of the motor | AI16: Wenn Sie die Stromstärke (Ampere) des Motors wissen möchten
B17: {=_xlfn.IFS($D$6=Validation!$O$2,U17,$D$6=Validation!$O$3,AC17,$D$6=Validation!$O$4,AI17)} -> Number of volts (V) of your engine | F17: {=_xlfn.IFS($D$6=Validation!$O$2,Y17,$D$6=Validation!$O$3,AG17,$D$6=Validation!$O$4,AM17)} -> Volt | U17: Aantal volt (V) van uw motor | X17: 24 | Y17: Volt | AC17: Number of volts (V) of your engine | AF17: 24 | AG17: Volt | AI17: Anzahl der Volt (V) Ihres Motors | AM17: Volt
B18: {=_xlfn.IFS($D$6=Validation!$O$2,U18,$D$6=Validation!$O$3,AC18,$D$6=Validation!$O$4,AI18)} -> The power of the motor (Watt) | F18: {=_xlfn.IFS($D$6=Validation!$O$2,Y18,$D$6=Validation!$O$3,AG18,$D$6=Validation!$O$4,AM18)} -> W | U18: Het vermogen van de motor (Watt) | X18: 1000 | Y18: W | AC18: The power of the motor (Watt) | AF18: 1000 | AG18: W | AI18: Die Leistung des Motors (Watt) | AM18: W
B19: {=_xlfn.IFS($D$6=Validation!$O$2,U19,$D$6=Validation!$O$3,AC19,$D$6=Validation!$O$4,AI19)} -> Ampere of the motor | E19: =IFERROR(E18/E17,"") | F19: {=_xlfn.IFS($D$6=Validation!$O$2,Y19,$D$6=Validation!$O$3,AG19,$D$6=Validation!$O$4,AM19)} -> A | U19: Het ampere van de motor | X19: =X18/X17 -> 41.666667 | Y19: A | AC19: Ampere of the motor | AF19: =AF18/AF17 -> 41.666667 | AG19: A | AI19: Ampere des Motors | AM19: A
B21: {=_xlfn.IFS($D$6=Validation!$O$2,U21,$D$6=Validation!$O$3,AC21,$D$6=Validation!$O$4,AI21)} -> Calculating the battery capacity | U21: Het berekenen van de accucapaciteit | AC21: Calculating the battery capacity | AI21: Berechnen der Batteriekapazität
U22: Stel u weet het voltage en het aantal Ah, en u wilt het aantal Wh weten | AC22: Suppose you know the voltage and the number of Ah, and you want to know the number of Wh | AI22: Angenommen, Sie kennen die Spannung und die Anzahl der Ah, und Sie möchten die Anzahl der Wh wissen
B23: {=_xlfn.IFS($D$6=Validation!$O$2,U23,$D$6=Validation!$O$3,AC23,$D$6=Validation!$O$4,AI23)} -> Voltage of the battery | F23: {=_xlfn.IFS($D$6=Validation!$O$2,Y23,$D$6=Validation!$O$3,AG23,$D$6=Validation!$O$4,AM23)} -> Volt | U23: Voltage van de accu | X23: 12 | Y23: Volt | AC23: Voltage of the battery | AF23: 12 | AG23: Volt | AI23: Spannung der Batterie | AM23: Volt
B24: {=_xlfn.IFS($D$6=Validation!$O$2,U24,$D$6=Validation!$O$3,AC24,$D$6=Validation!$O$4,AI24)} -> Battery capacity in Ampere-hours (Ah) | F24: {=_xlfn.IFS($D$6=Validation!$O$2,Y24,$D$6=Validation!$O$3,AG24,$D$6=Validation!$O$4,AM24)} -> Ah | U24: Capaciteit van de accu in Ampere-uur (Ah) | X24: 105 | Y24: Ah | AC24: Battery capacity in Ampere-hours (Ah) | AF24: 105 | AG24: Ah | AI24: Batteriekapazität in Amperestunden (Ah) | AM24: Ah
B25: {=_xlfn.IFS($D$6=Validation!$O$2,U25,$D$6=Validation!$O$3,AC25,$D$6=Validation!$O$4,AI25)} -> Battery capacity in Watt-hours (Wh) | E25: =E24*E23 -> 0 | F25: {=_xlfn.IFS($D$6=Validation!$O$2,Y25,$D$6=Validation!$O$3,AG25,$D$6=Validation!$O$4,AM25)} -> Wh | U25: Capaciteit van de accu in Wattuur (Wh) | X25: =X24*X23 -> 1260 | Y25: Wh | AC25: Battery capacity in Watt-hours (Wh) | AF25: =AF24*AF23 -> 1260 | AG25: Wh | AI25: Batteriekapazität in Watt-Stunden (Wh) | AM25: Wh
B27: {=_xlfn.IFS($D$6=Validation!$O$2,U27,$D$6=Validation!$O$3,AC27,$D$6=Validation!$O$4,AI27)} -> Connecting batteries in series or parallel | U27: Accu's in serie of parallel schakelen | AC27: Connecting batteries in series or parallel | AI27: Anschluss von Batterien in Reihe oder parallel
B28: {=_xlfn.IFS($D$6=Validation!$O$2,U28,$D$6=Validation!$O$3,AC28,$D$6=Validation!$O$4,AI28)} -> How many batteries you want to connect | F28: {=_xlfn.IFS($D$6=Validation!$O$2,Y28,$D$6=Validation!$O$3,AG28,$D$6=Validation!$O$4,AM28)} -> Batteries | U28: Hoeveel accu's wilt u schakelen | X28: 2 | Y28: Aantal accu's | AC28: How many batteries you want to connect | AF28: 2 | AG28: Batteries | AI28: Wie viele Batterien möchten Sie anschließen | AM28: Batteries
B29: {=_xlfn.IFS($D$6=Validation!$O$2,U29,$D$6=Validation!$O$3,AC29,$D$6=Validation!$O$4,AI29)} -> What is the voltage per battery | F29: {=_xlfn.IFS($D$6=Validation!$O$2,Y29,$D$6=Validation!$O$3,AG29,$D$6=Validation!$O$4,AM29)} -> V | U29: Wat is het voltage per accu | X29: 12 | Y29: V | AC29: What is the voltage per battery | AF29: 12 | AG29: V | AI29: Wie hoch ist die Spannung pro Batterie | AM29: V
B30: {=_xlfn.IFS($D$6=Validation!$O$2,U30,$D$6=Validation!$O$3,AC30,$D$6=Validation!$O$4,AI30)} -> Capacity per battery in Ah | F30: {=_xlfn.IFS($D$6=Validation!$O$2,Y30,$D$6=Validation!$O$3,AG30,$D$6=Validation!$O$4,AM30)} -> Ah | U30: Capaciteit per accu in Ah | X30: 200 | Y30: Ah | AC30: Capacity per battery in Ah | AF30: 200 | AG30: Ah | AI30: Kapazität pro Batterie in Ah | AM30: Ah
B31: {=_xlfn.IFS($D$6=Validation!$O$2,U31,$D$6=Validation!$O$3,AC31,$D$6=Validation!$O$4,AI31)} -> Do you want to connect the batteries in series or parallel? | U31: Wilt u de accu's in serie of parallel schakelen? | X31: In serie | AC31: Do you want to connect the batteries in series or parallel? | AF31: In serie | AI31: Möchten Sie die Batterien in Reihe oder parallel schalten?
B32: {=_xlfn.IFS($D$6=Validation!$O$2,U32,$D$6=Validation!$O$3,AC32,$D$6=Validation!$O$4,AI32)} -> The calculated voltage | E32: =IF(E31="Parallel",E29,E29*E28) -> 0 | F32: {=_xlfn.IFS($D$6=Validation!$O$2,Y32,$D$6=Validation!$O$3,AG32,$D$6=Validation!$O$4,AM32)} -> V | U32: Het berekende voltage | X32: =IF(X31="In serie",X29*X28,X29) -> 24 | Y32: V | AC32: The calculated voltage | AF32: =IF(AF31="In serie",AF29*AF28,AF29) -> 24 | AG32: V | AI32: Die berechnete Spannung | AM32: V
B33: {=_xlfn.IFS($D$6=Validation!$O$2,U33,$D$6=Validation!$O$3,AC33,$D$6=Validation!$O$4,AI33)} -> The calculated capacity in Ah | E33: =IF(E31="parallel",E28*E30,E30) -> 0 | F33: {=_xlfn.IFS($D$6=Validation!$O$2,Y33,$D$6=Validation!$O$3,AG33,$D$6=Validation!$O$4,AM33)} -> Ah | U33: De berekende capaciteit in Ah | X33: =IF(X31="parallel",X28*X30,X30) -> 200 | Y33: Ah | AC33: The calculated capacity in Ah | AF33: =IF(AF31="parallel",AF28*AF30,AF30) -> 200 | AG33: Ah | AI33: Die berechnete Kapazität in Ah | AM33: Ah
B34: {=_xlfn.IFS($D$6=Validation!$O$2,U34,$D$6=Validation!$O$3,AC34,$D$6=Validation!$O$4,AI34)} -> Calculated capacity in Wh | E34: =E33*E32 -> 0 | F34: {=_xlfn.IFS($D$6=Validation!$O$2,Y34,$D$6=Validation!$O$3,AG34,$D$6=Validation!$O$4,AM34)} -> Wh | U34: De berekende capaciteit in Wh | X34: =X33*X32 -> 4800 | Y34: Wh | AC34: Calculated capacity in Wh | AF34: =AF33*AF32 -> 4800 | AG34: Wh | AI34: Berechnete Kapazität in Wh | AM34: Wh

Sheet 3.Effective battery capacity
M2: Table of contents | P2: Soorten accu's | Q2: Peukert | R2: Ontlading
P3: Lithium | Q3: 1 | R3: 1
P4: AGM | Q4: 1.17 | R4: 0.8
P5: {=_xlfn.IFS(C6=Validation!$O$2,"Gelaccu",C6=Validation!$O$3,"Gel battery",C6=Validation!$O$4,"Gel-Batterie")} -> Gel battery | Q5: 1.2 | R5: 0.8
B6: Choose language | C6: EN | P6: {=_xlfn.IFS(C6=Validation!$O$2,"Semi-tractie",C6=Validation!$O$3,"Semi-traction",C6=Validation!$O$4,"Semi-Traktion")} -> Semi-traction | Q6: 1.2 | R6: 0.75
B7: {=_xlfn.IFS($C$6=Validation!$O$2,S7,$C$6=Validation!$O$3,AC7,$C$6=Validation!$O$4,AL7)} -> Usable battery capacity and sailing time | P7: {=_xlfn.IFS(C6=Validation!$O$2,"Reguliere loodaccu",C6=Validation!$O$3,"Regular lead acid battery",C6=Validation!$O$4,"Normale Bleibatterie")} -> Regular lead acid battery | Q7: 1.44 | R7: 0.5 | S7: Bruikbare accucapaciteit en vaartijd | AC7: Usable battery capacity and sailing time | AL7: Nutzbare Akkukapazität und Fahrzeit
B8: {=_xlfn.IFS($C$6=Validation!$O$2,S8,$C$6=Validation!$O$3,AC8,$C$6=Validation!$O$4,AL8)} -> The indicated battery capacity often differs from the usable battery capacity. This is due to the pod exponent. | S8: De aangegeven accu capaciteit verschilt vaak van de bruikbare accucapaciteit. Dit heeft te maken met de peuker exponent. | AC8: The indicated battery capacity often differs from the usable battery capacity. This is due to the pod exponent. | AL8: Die angezeigte Batteriekapazität weicht oft von der nutzbaren Batteriekapazität ab. Dies ist auf den Pod-Exponenten zurückzuführen.
B9: {=_xlfn.IFS($C$6=Validation!$O$2,S9,$C$6=Validation!$O$3,AC9,$C$6=Validation!$O$4,AL9)} -> More explanation about usable battery capacity can be found here | S9: Meer uitleg over bruikbare accucapaciteit kunt u hier vinden | AC9: More explanation about usable battery capacity can be found here | AL9: Weitere Erklärungen zur nutzbaren Batteriekapazität finden Sie hier
B11: {=_xlfn.IFS($C$6=Validation!$O$2,S11,$C$6=Validation!$O$3,AC11,$C$6=Validation!$O$4,AL11)} -> Calculating usable battery capacity if you do not know the peukert exponent and the maximum discharge of the battery | S11: Berekening bruikbare capaciteit accu indien u de peukert exponent en de maximale ontlading van de accu niet weet | AC11: Calculating usable battery capacity if you do not know the peukert exponent and the maximum discharge of the battery | AL11: Berechnung der nutzbaren Batteriekapazität, wenn Sie den Peukert-Exponenten und die maximale Entladung der Batterie nicht kennen
B12: {=_xlfn.IFS($C$6=Validation!$O$2,S12,$C$6=Validation!$O$3,AC12,$C$6=Validation!$O$4,AL12)} -> Given number of Ah (C20) | S12: Gegeven aantal Ah (C20) | AC12: Given number of Ah (C20) | AL12: Gegebene Anzahl von Ah (C20)
B13: {=_xlfn.IFS($C$6=Validation!$O$2,S13,$C$6=Validation!$O$3,AC13,$C$6=Validation!$O$4,AL13)} -> Type of battery | S13: Soort accu | AC13: Type of battery | AL13: Typ der Batterie
B14: {=_xlfn.IFS($C$6=Validation!$O$2,S14,$C$6=Validation!$O$3,AC14,$C$6=Validation!$O$4,AL14)} -> Number of amps the motor draws | S14: Aantal ampere dat de motor trekt | AC14: Number of amps the motor draws | AL14: Anzahl der Ampere, die der Motor zieht
B15: {=_xlfn.IFS($C$6=Validation!$O$2,S15,$C$6=Validation!$O$3,AC15,$C$6=Validation!$O$4,AL15)} -> Peukert exponent | E15: {=IFERROR(_xlfn.IFS(E13=P3,Q3,E13=P4,Q4,E13=P5,Q5,E13=P6,Q6,E13=P7,Q7),"")} | S15: Peukert exponent | AC15: Peukert exponent | AL15: Peukert-Exponent
B16: {=_xlfn.IFS($C$6=Validation!$O$2,S16,$C$6=Validation!$O$3,AC16,$C$6=Validation!$O$4,AL16)} -> Maximum discharge of the battery | E16: {=IFERROR(_xlfn.IFS(E13=P3,R3,E13=P4,R4,E13=P5,R5,E13=P6,R6,E13=P7,R7),"")} | S16: Maximale ontlading van de accu | AC16: Maximum discharge of the battery | AL16: Maximale Entladung der Batterie
B17: {=_xlfn.IFS($C$6=Validation!$O$2,S17,$C$6=Validation!$O$3,AC17,$C$6=Validation!$O$4,AL17)} -> Cruising time | E17: =IFERROR(20*(E12/(E14*20))^E15*E16,"") | S17: Vaartijd | AC17: Cruising time | AL17: Fahrzeit
B18: {=_xlfn.IFS($C$6=Validation!$O$2,S18,$C$6=Validation!$O$3,AC18,$C$6=Validation!$O$4,AL18)} -> Usable Ah in 20 hours (C20) | E18: =IFERROR(20*($E$12/20)*(20^(1/$E$15)/20^(1/$E$15))*E16,"") | S18: Bruikbaar aantal Ah over 20 uur (C20) | AC18: Usable Ah in 20 hours (C20) | AL18: Nutzbare Ah in 20 Stunden (C20)
B19: {=_xlfn.IFS($C$6=Validation!$O$2,S19,$C$6=Validation!$O$3,AC19,$C$6=Validation!$O$4,AL19)} -> Usable Ah in 5 hours (C5) | E19: =IFERROR(5*($E$12/20)*(20^(1/$E$15)/5^(1/$E$15))*E16,"") | S19: Bruikbaar aantal Ah over 5 uur (C5) | AC19: Usable Ah in 5 hours (C5) | AL19: Nutzbare Ah in 5 Stunden (C5)
B20: {=_xlfn.IFS($C$6=Validation!$O$2,S20,$C$6=Validation!$O$3,AC20,$C$6=Validation!$O$4,AL20)} -> Usable Ah in 3 hours (C3) | E20: =IFERROR(3*($E$12/20)*(20^(1/$E$15)/3^(1/$E$15))*E16,"") | S20: Bruikbaar aantal Ah over 3 uur (C3) | AC20: Usable Ah in 3 hours (C3) | AL20: Nutzbare Ah in 3 Stunden (C3)
B22: {=_xlfn.IFS($C$6=Validation!$O$2,S22,$C$6=Validation!$O$3,AC22,$C$6=Validation!$O$4,AL22)} -> Usable battery capacity if you do know the peukert exponent and the maximum discharge of the battery | S22: Berekening bruikbare capaciteit accu indien u de peukert exponent en de maximale ontlading van de accu wel weet | AC22: Usable battery capacity if you do know the peukert exponent and the maximum discharge of the battery | AL22: Nutzbare Batteriekapazität, wenn Sie den Peukert-Exponenten und die maximale Entladung der Batterie kennen
B23: {=_xlfn.IFS($C$6=Validation!$O$2,S23,$C$6=Validation!$O$3,AC23,$C$6=Validation!$O$4,AL23)} -> Given number of Ah (C20) | S23: Gegeven aantal Ah (C20) | AC23: Given number of Ah (C20) | AL23: Gegebene Anzahl von Ah (C20)
B24: {=_xlfn.IFS($C$6=Validation!$O$2,S24,$C$6=Validation!$O$3,AC24,$C$6=Validation!$O$4,AL24)} -> Peukert exponent | S24: Peukert exponent | AC24: Peukert exponent | AL24: Peukert-Exponent
B25: {=_xlfn.IFS($C$6=Validation!$O$2,S25,$C$6=Validation!$O$3,AC25,$C$6=Validation!$O$4,AL25)} -> Maximum discharge of the battery | S25: Maximale ontlading van de accu | AC25: Maximum discharge of the battery | AL25: Maximale Entladung der Batterie
B26: {=_xlfn.IFS($C$6=Validation!$O$2,S26,$C$6=Validation!$O$3,AC26,$C$6=Validation!$O$4,AL26)} -> Number of amps drawn by the motor | S26: Aantal ampere dat de motor trekt | AC26: Number of amps drawn by the motor | AL26: Anzahl der vom Motor aufgenommenen
B27: {=_xlfn.IFS($C$6=Validation!$O$2,S27,$C$6=Validation!$O$3,AC27,$C$6=Validation!$O$4,AL27)} -> Cruising time | E27: =IFERROR(20*(E23/(E26*20))^E24*E25,"") | S27: Vaartijd | AC27: Cruising time | AL27: Fahrzeit
B28: {=_xlfn.IFS($C$6=Validation!$O$2,S28,$C$6=Validation!$O$3,AC28,$C$6=Validation!$O$4,AL28)} -> Usable number of Ah in 20 hours (C20) | E28: =IFERROR(20*($E$23/20)*(20^(1/$E$24)/20^(1/$E$24))*E25,"") | S28: Bruikbaar aantal Ah over 20 uur (C20) | AC28: Usable number of Ah in 20 hours (C20) | AL28: Nutzbare Ah-Zahl in 20 Stunden (C20)
B29: {=_xlfn.IFS($C$6=Validation!$O$2,S29,$C$6=Validation!$O$3,AC29,$C$6=Validation!$O$4,AL29)} -> Usable Ah in 5 hours (C5) | E29: =IFERROR(5*($E$23/20)*(20^(1/$E$24)/5^(1/$E$24))*E25,"") | S29: Bruikbaar aantal Ah over 5 uur (C5) | AC29: Usable Ah in 5 hours (C5) | AL29: Nutzbare Ah in 5 Stunden (C5)
B30: {=_xlfn.IFS($C$6=Validation!$O$2,S30,$C$6=Validation!$O$3,AC30,$C$6=Validation!$O$4,AL30)} -> Usable Ah in 3 hours (C3) | E30: =IFERROR(3*($E$23/20)*(20^(1/$E$24)/3^(1/$E$24))*E25,"") | S30: Bruikbaar aantal Ah over 3 uur (C3) | AC30: Usable Ah in 3 hours (C3) | AL30: Nutzbare Ah in 3 Stunden (C3)
B34: {=_xlfn.IFS($C$6=Validation!$O$2,S34,$C$6=Validation!$O$3,AC34,$C$6=Validation!$O$4,AL34)} -> Example 1: A Minn Kota endura Max 55 with a 12V70 Rebelcell | S34: Voorbeeld 1: de Minn Kota endura Max 55 met een 12V70 Rebelcell | AC34: Example 1: A Minn Kota endura Max 55 with a 12V70 Rebelcell | AL34: Beispiel 1: Ein Minn Kota Endura Max 55 mit einer 12V70 Rebelcell
B35: {=_xlfn.IFS($C$6=Validation!$O$2,S35,$C$6=Validation!$O$3,AC35,$C$6=Validation!$O$4,AL35)} -> Rebelcell 12V70 AV | D35: {=_xlfn.IFS($C$6=Validation!$O$2,U35,$C$6=Validation!$O$3,AE35,$C$6=Validation!$O$4,AN35)} -> Minn Kota endura Max 55 | S35: Rebelcell 12V70 AV | U35: Minn Kota endura Max 55 | AC35: Rebelcell 12V70 AV | AE35: Minn Kota endura Max 55 | AL35: Rebelcell 12V70 AV | AN35: Minn Kota Endura Max 55
B36: {=_xlfn.IFS($C$6=Validation!$O$2,S36,$C$6=Validation!$O$3,AC36,$C$6=Validation!$O$4,AL36)} -> Ah C20 | C36: {=_xlfn.IFS($C$6=Validation!$O$2,T36,$C$6=Validation!$O$3,AD36,$C$6=Validation!$O$4,AM36)} -> 70 | D36: {=_xlfn.IFS($C$6=Validation!$O$2,U36,$C$6=Validation!$O$3,AE36,$C$6=Validation!$O$4,AN36)} -> % on throttle | E36: {=_xlfn.IFS($C$6=Validation!$O$2,V36,$C$6=Validation!$O$3,AF36,$C$6=Validation!$O$4,AO36)} -> Measured ampere | F36: {=_xlfn.IFS($C$6=Validation!$O$2,W36,$C$6=Validation!$O$3,AG36,$C$6=Validation!$O$4,AP36)} -> Power | G36: {=_xlfn.IFS($C$6=Validation!$O$2,X36,$C$6=Validation!$O$3,AH36,$C$6=Validation!$O$4,AQ36)} -> Sail time in h. | H36: {=_xlfn.IFS($C$6=Validation!$O$2,Y36,$C$6=Validation!$O$3,AI36,$C$6=Validation!$O$4,AR36)} -> Usable battery capacity | S36: Aantal Ah C20 | T36: 70 | U36: % op de gashendel | V36: Gemeten ampere | W36: Vermogen | X36: Vaartijd in u | Y36: Bruikbare accucapcaiteit | AC36: Ah C20 | AD36: 70 | AE36: % on throttle | AF36: Measured ampere | AG36: Power | AH36: Sail time in h. | AI36: Usable battery capacity | AL36: Ah C20 | AM36: 70 | AN36: % vom Gas/Schub | AO36: Gemessenes Ampere | AP36: Strom | AQ36: Fahrtzeit in Stunden. | AR36: Nutzbare Batteriekapazität
B37: {=_xlfn.IFS($C$6=Validation!$O$2,S37,$C$6=Validation!$O$3,AC37,$C$6=Validation!$O$4,AL37)} -> Peukert exponent | C37: {=_xlfn.IFS($C$6=Validation!$O$2,T37,$C$6=Validation!$O$3,AD37,$C$6=Validation!$O$4,AM37)} -> 1 | D37: {=_xlfn.IFS($C$6=Validation!$O$2,U37,$C$6=Validation!$O$3,AE37,$C$6=Validation!$O$4,AN37)} -> 0.1 | E37: {=_xlfn.IFS($C$6=Validation!$O$2,V37,$C$6=Validation!$O$3,AF37,$C$6=Validation!$O$4,AO37)} -> 1 | F37: {=_xlfn.IFS($C$6=Validation!$O$2,W37,$C$6=Validation!$O$3,AG37,$C$6=Validation!$O$4,AP37)} -> 12 | G37: {=_xlfn.IFS($C$6=Validation!$O$2,X37,$C$6=Validation!$O$3,AH37,$C$6=Validation!$O$4,AQ37)} -> 70 | H37: {=_xlfn.IFS($C$6=Validation!$O$2,Y37,$C$6=Validation!$O$3,AI37,$C$6=Validation!$O$4,AR37)} -> 70 | S37: Peukert exponent | T37: 1 | U37: 0.1 | V37: 1 | W37: =V37*12 -> 12 | X37: =20*($C$36/(V37*20))^$C$37*$C$38 -> 70 | Y37: =X37*V37 -> 70 | AC37: Peukert exponent | AD37: 1 | AE37: 0.1 | AF37: 1 | AG37: =AF37*12 -> 12 | AH37: =20*($C$36/(AF37*20))^$C$37*$C$38 -> 70 | AI37: =AH37*AF37 -> 70 | AL37: Peukert-Exponent | AM37: 1 | AN37: 0.1 | AO37: 1 | AP37: =AO37*12 -> 12 | AQ37: =20*($C$36/(AO37*20))^$C$37*$C$38 -> 70 | AR37: =AQ37*AO37 -> 70
B38: {=_xlfn.IFS($C$6=Validation!$O$2,S38,$C$6=Validation!$O$3,AC38,$C$6=Validation!$O$4,AL38)} -> Maximum discharge of the battery | C38: {=_xlfn.IFS($C$6=Validation!$O$2,T38,$C$6=Validation!$O$3,AD38,$C$6=Validation!$O$4,AM38)} -> 1 | D38: {=_xlfn.IFS($C$6=Validation!$O$2,U38,$C$6=Validation!$O$3,AE38,$C$6=Validation!$O$4,AN38)} -> 0.2 | E38: {=_xlfn.IFS($C$6=Validation!$O$2,V38,$C$6=Validation!$O$3,AF38,$C$6=Validation!$O$4,AO38)} -> 2 | F38: {=_xlfn.IFS($C$6=Validation!$O$2,W38,$C$6=Validation!$O$3,AG38,$C$6=Validation!$O$4,AP38)} -> 24 | G38: {=_xlfn.IFS($C$6=Validation!$O$2,X38,$C$6=Validation!$O$3,AH38,$C$6=Validation!$O$4,AQ38)} -> 35 | H38: {=_xlfn.IFS($C$6=Validation!$O$2,Y38,$C$6=Validation!$O$3,AI38,$C$6=Validation!$O$4,AR38)} -> 70 | S38: Maximale ontlading van de accu | T38: 1 | U38: 0.2 | V38: 2 | W38: =V38*12 -> 24 | X38: =20*($C$36/(V38*20))^$C$37*$C$38 -> 35 | Y38: =X38*V38 -> 70 | AC38: Maximum discharge of the battery | AD38: 1 | AE38: 0.2 | AF38: 2 | AG38: =AF38*12 -> 24 | AH38: =20*($C$36/(AF38*20))^$C$37*$C$38 -> 35 | AI38: =AH38*AF38 -> 70 | AL38: Maximale Entladung der Batterie | AM38: 1 | AN38: 0.2 | AO38: 2 | AP38: =AO38*12 -> 24 | AQ38: =20*($C$36/(AO38*20))^$C$37*$C$38 -> 35 | AR38: =AQ38*AO38 -> 70
D39: {=_xlfn.IFS($C$6=Validation!$O$2,U39,$C$6=Validation!$O$3,AE39,$C$6=Validation!$O$4,AN39)} -> 0.3 | E39: {=_xlfn.IFS($C$6=Validation!$O$2,V39,$C$6=Validation!$O$3,AF39,$C$6=Validation!$O$4,AO39)} -> 4 | F39: {=_xlfn.IFS($C$6=Validation!$O$2,W39,$C$6=Validation!$O$3,AG39,$C$6=Validation!$O$4,AP39)} -> 48 | G39: {=_xlfn.IFS($C$6=Validation!$O$2,X39,$C$6=Validation!$O$3,AH39,$C$6=Validation!$O$4,AQ39)} -> 17.5 | H39: {=_xlfn.IFS($C$6=Validation!$O$2,Y39,$C$6=Validation!$O$3,AI39,$C$6=Validation!$O$4,AR39)} -> 70 | U39: 0.3 | V39: 4 | W39: =V39*12 -> 48 | X39: =20*($C$36/(V39*20))^$C$37*$C$38 -> 17.5 | Y39: =X39*V39 -> 70 | AE39: 0.3 | AF39: 4 | AG39: =AF39*12 -> 48 | AH39: =20*($C$36/(AF39*20))^$C$37*$C$38 -> 17.5 | AI39: =AH39*AF39 -> 70 | AN39: 0.3 | AO39: 4 | AP39: =AO39*12 -> 48 | AQ39: =20*($C$36/(AO39*20))^$C$37*$C$38 -> 17.5 | AR39: =AQ39*AO39 -> 70
D40: {=_xlfn.IFS($C$6=Validation!$O$2,U40,$C$6=Validation!$O$3,AE40,$C$6=Validation!$O$4,AN40)} -> 0.4 | E40: {=_xlfn.IFS($C$6=Validation!$O$2,V40,$C$6=Validation!$O$3,AF40,$C$6=Validation!$O$4,AO40)} -> 7 | F40: {=_xlfn.IFS($C$6=Validation!$O$2,W40,$C$6=Validation!$O$3,AG40,$C$6=Validation!$O$4,AP40)} -> 84 | G40: {=_xlfn.IFS($C$6=Validation!$O$2,X40,$C$6=Validation!$O$3,AH40,$C$6=Validation!$O$4,AQ40)} -> 10 | H40: {=_xlfn.IFS($C$6=Validation!$O$2,Y40,$C$6=Validation!$O$3,AI40,$C$6=Validation!$O$4,AR40)} -> 70 | U40: 0.4 | V40: 7 | W40: =V40*12 -> 84 | X40: =20*($C$36/(V40*20))^$C$37*$C$38 -> 10 | Y40: =X40*V40 -> 70 | AE40: 0.4 | AF40: 7 | AG40: =AF40*12 -> 84 | AH40: =20*($C$36/(AF40*20))^$C$37*$C$38 -> 10 | AI40: =AH40*AF40 -> 70 | AN40: 0.4 | AO40: 7 | AP40: =AO40*12 -> 84 | AQ40: =20*($C$36/(AO40*20))^$C$37*$C$38 -> 10 | AR40: =AQ40*AO40 -> 70
D41: {=_xlfn.IFS($C$6=Validation!$O$2,U41,$C$6=Validation!$O$3,AE41,$C$6=Validation!$O$4,AN41)} -> 0.5 | E41: {=_xlfn.IFS($C$6=Validation!$O$2,V41,$C$6=Validation!$O$3,AF41,$C$6=Validation!$O$4,AO41)} -> 12 | F41: {=_xlfn.IFS($C$6=Validation!$O$2,W41,$C$6=Validation!$O$3,AG41,$C$6=Validation!$O$4,AP41)} -> 144 | G41: {=_xlfn.IFS($C$6=Validation!$O$2,X41,$C$6=Validation!$O$3,AH41,$C$6=Validation!$O$4,AQ41)} -> 5.8333333 | H41: {=_xlfn.IFS($C$6=Validation!$O$2,Y41,$C$6=Validation!$O$3,AI41,$C$6=Validation!$O$4,AR41)} -> 70 | U41: 0.5 | V41: 12 | W41: =V41*12 -> 144 | X41: =20*($C$36/(V41*20))^$C$37*$C$38 -> 5.8333333 | Y41: =X41*V41 -> 70 | AE41: 0.5 | AF41: 12 | AG41: =AF41*12 -> 144 | AH41: =20*($C$36/(AF41*20))^$C$37*$C$38 -> 5.8333333 | AI41: =AH41*AF41 -> 70 | AN41: 0.5 | AO41: 12 | AP41: =AO41*12 -> 144 | AQ41: =20*($C$36/(AO41*20))^$C$37*$C$38 -> 5.8333333 | AR41: =AQ41*AO41 -> 70
D42: {=_xlfn.IFS($C$6=Validation!$O$2,U42,$C$6=Validation!$O$3,AE42,$C$6=Validation!$O$4,AN42)} -> 0.6 | E42: {=_xlfn.IFS($C$6=Validation!$O$2,V42,$C$6=Validation!$O$3,AF42,$C$6=Validation!$O$4,AO42)} -> 17 | F42: {=_xlfn.IFS($C$6=Validation!$O$2,W42,$C$6=Validation!$O$3,AG42,$C$6=Validation!$O$4,AP42)} -> 204 | G42: {=_xlfn.IFS($C$6=Validation!$O$2,X42,$C$6=Validation!$O$3,AH42,$C$6=Validation!$O$4,AQ42)} -> 4.1176471 | H42: {=_xlfn.IFS($C$6=Validation!$O$2,Y42,$C$6=Validation!$O$3,AI42,$C$6=Validation!$O$4,AR42)} -> 70 | U42: 0.6 | V42: 17 | W42: =V42*12 -> 204 | X42: =20*($C$36/(V42*20))^$C$37*$C$38 -> 4.1176471 | Y42: =X42*V42 -> 70 | AE42: 0.6 | AF42: 17 | AG42: =AF42*12 -> 204 | AH42: =20*($C$36/(AF42*20))^$C$37*$C$38 -> 4.1176471 | AI42: =AH42*AF42 -> 70 | AN42: 0.6 | AO42: 17 | AP42: =AO42*12 -> 204 | AQ42: =20*($C$36/(AO42*20))^$C$37*$C$38 -> 4.1176471 | AR42: =AQ42*AO42 -> 70
D43: {=_xlfn.IFS($C$6=Validation!$O$2,U43,$C$6=Validation!$O$3,AE43,$C$6=Validation!$O$4,AN43)} -> 0.75 | E43: {=_xlfn.IFS($C$6=Validation!$O$2,V43,$C$6=Validation!$O$3,AF43,$C$6=Validation!$O$4,AO43)} -> 26 | F43: {=_xlfn.IFS($C$6=Validation!$O$2,W43,$C$6=Validation!$O$3,AG43,$C$6=Validation!$O$4,AP43)} -> 312 | G43: {=_xlfn.IFS($C$6=Validation!$O$2,X43,$C$6=Validation!$O$3,AH43,$C$6=Validation!$O$4,AQ43)} -> 2.6923077 | H43: {=_xlfn.IFS($C$6=Validation!$O$2,Y43,$C$6=Validation!$O$3,AI43,$C$6=Validation!$O$4,AR43)} -> 70 | U43: 0.75 | V43: 26 | W43: =V43*12 -> 312 | X43: =20*($C$36/(V43*20))^$C$37*$C$38 -> 2.6923077 | Y43: =X43*V43 -> 70 | AE43: 0.75 | AF43: 26 | AG43: =AF43*12 -> 312 | AH43: =20*($C$36/(AF43*20))^$C$37*$C$38 -> 2.6923077 | AI43: =AH43*AF43 -> 70 | AN43: 0.75 | AO43: 26 | AP43: =AO43*12 -> 312 | AQ43: =20*($C$36/(AO43*20))^$C$37*$C$38 -> 2.6923077 | AR43: =AQ43*AO43 -> 70
D44: {=_xlfn.IFS($C$6=Validation!$O$2,U44,$C$6=Validation!$O$3,AE44,$C$6=Validation!$O$4,AN44)} -> 0.8 | E44: {=_xlfn.IFS($C$6=Validation!$O$2,V44,$C$6=Validation!$O$3,AF44,$C$6=Validation!$O$4,AO44)} -> 33 | F44: {=_xlfn.IFS($C$6=Validation!$O$2,W44,$C$6=Validation!$O$3,AG44,$C$6=Validation!$O$4,AP44)} -> 396 | G44: {=_xlfn.IFS($C$6=Validation!$O$2,X44,$C$6=Validation!$O$3,AH44,$C$6=Validation!$O$4,AQ44)} -> 2.1212121 | H44: {=_xlfn.IFS($C$6=Validation!$O$2,Y44,$C$6=Validation!$O$3,AI44,$C$6=Validation!$O$4,AR44)} -> 70 | U44: 0.8 | V44: 33 | W44: =V44*12 -> 396 | X44: =20*($C$36/(V44*20))^$C$37*$C$38 -> 2.1212121 | Y44: =X44*V44 -> 70 | AE44: 0.8 | AF44: 33 | AG44: =AF44*12 -> 396 | AH44: =20*($C$36/(AF44*20))^$C$37*$C$38 -> 2.1212121 | AI44: =AH44*AF44 -> 70 | AN44: 0.8 | AO44: 33 | AP44: =AO44*12 -> 396 | AQ44: =20*($C$36/(AO44*20))^$C$37*$C$38 -> 2.1212121 | AR44: =AQ44*AO44 -> 70
D45: {=_xlfn.IFS($C$6=Validation!$O$2,U45,$C$6=Validation!$O$3,AE45,$C$6=Validation!$O$4,AN45)} -> 0.9 | E45: {=_xlfn.IFS($C$6=Validation!$O$2,V45,$C$6=Validation!$O$3,AF45,$C$6=Validation!$O$4,AO45)} -> 41 | F45: {=_xlfn.IFS($C$6=Validation!$O$2,W45,$C$6=Validation!$O$3,AG45,$C$6=Validation!$O$4,AP45)} -> 492 | G45: {=_xlfn.IFS($C$6=Validation!$O$2,X45,$C$6=Validation!$O$3,AH45,$C$6=Validation!$O$4,AQ45)} -> 1.7073171 | H45: {=_xlfn.IFS($C$6=Validation!$O$2,Y45,$C$6=Validation!$O$3,AI45,$C$6=Validation!$O$4,AR45)} -> 70 | U45: 0.9 | V45: 41 | W45: =V45*12 -> 492 | X45: =20*($C$36/(V45*20))^$C$37*$C$38 -> 1.7073171 | Y45: =X45*V45 -> 70 | AE45: 0.9 | AF45: 41 | AG45: =AF45*12 -> 492 | AH45: =20*($C$36/(AF45*20))^$C$37*$C$38 -> 1.7073171 | AI45: =AH45*AF45 -> 70 | AN45: 0.9 | AO45: 41 | AP45: =AO45*12 -> 492 | AQ45: =20*($C$36/(AO45*20))^$C$37*$C$38 -> 1.7073171 | AR45: =AQ45*AO45 -> 70
D46: {=_xlfn.IFS($C$6=Validation!$O$2,U46,$C$6=Validation!$O$3,AE46,$C$6=Validation!$O$4,AN46)} -> 1 | E46: {=_xlfn.IFS($C$6=Validation!$O$2,V46,$C$6=Validation!$O$3,AF46,$C$6=Validation!$O$4,AO46)} -> 46 | F46: {=_xlfn.IFS($C$6=Validation!$O$2,W46,$C$6=Validation!$O$3,AG46,$C$6=Validation!$O$4,AP46)} -> 552 | G46: {=_xlfn.IFS($C$6=Validation!$O$2,X46,$C$6=Validation!$O$3,AH46,$C$6=Validation!$O$4,AQ46)} -> 1.5217391 | H46: {=_xlfn.IFS($C$6=Validation!$O$2,Y46,$C$6=Validation!$O$3,AI46,$C$6=Validation!$O$4,AR46)} -> 70 | U46: 1 | V46: 46 | W46: =V46*12 -> 552 | X46: =20*($C$36/(V46*20))^$C$37*$C$38 -> 1.5217391 | Y46: =X46*V46 -> 70 | AE46: 1 | AF46: 46 | AG46: =AF46*12 -> 552 | AH46: =20*($C$36/(AF46*20))^$C$37*$C$38 -> 1.5217391 | AI46: =AH46*AF46 -> 70 | AN46: 1 | AO46: 46 | AP46: =AO46*12 -> 552 | AQ46: =20*($C$36/(AO46*20))^$C$37*$C$38 -> 1.5217391 | AR46: =AQ46*AO46 -> 70

Sheet 4.Runtime
L2: Table of contents
B6: Choose language | D6: EN
B7: {=_xlfn.IFS($D$6=Validation!$O$2,M7,$D$6=Validation!$O$3,AA7,$D$6=Validation!$O$4,AO7)} -> Cruising time with different electric outboard motors | M7: Vaartijd met verschillende elektrische buitenboordmotoren | AA7: Cruising time with different electric outboard motors | AO7: Fahrzeit mit verschiedenen elektrischen Außenbordmotoren
B10: {=_xlfn.IFS($D$6=Validation!$O$2,M10,$D$6=Validation!$O$3,AA10,$D$6=Validation!$O$4,AO10)} -> 12 volt motors | M10: 12 volt motoren | AA10: 12 volt motors | AO10: 12-Volt-Motoren
B11: {=_xlfn.IFS($D$6=Validation!$O$2,M11,$D$6=Validation!$O$3,AA11,$D$6=Validation!$O$4,AO11)} -> Choose your trolling motor/electric outboard motor | E11: Minn Kota endura MAX 55 | M11: Kies uw trolling motor/elektrische buitenboordmotor | P11: Minn Kota endura MAX 45 | AA11: Choose your trolling motor/electric outboard motor | AD11: Minn Kota endura MAX 45 | AO11: Wählen Sie Ihren Trolling-Motor/Elektro-Außenbordmotor | AR11: Minn Kota endura MAX 40
B13: =E11 -> Minn Kota endura MAX 55 | D13: Battery | E13: 12V07 AV | F13: 12V18 AV | G13: 12V30 AV | H13: Edge 12V75 | I13: Edge 12V105 | J13: Edge 12V210 | K13: 12V80 PRO | L13: 12V120 PRO
D14: Wh | E14: 87 | F14: 199 | G14: 323 | H14: 960 | I14: 1340 | J14: 2690 | K14: 1002 | L14: 1540
B15: =IFERROR(VLOOKUP('4.Runtime'!B13,Validation!B:M,2,FALSE),"") -> % on the Throttle | C15: Ampere | D15: Watt | E15: =CONCATENATE("Runtime ",E13) -> Runtime 12V07 AV | F15: =CONCATENATE("Runtime ",F13) -> Runtime 12V18 AV | G15: =CONCATENATE("Runtime ",G13) -> Runtime 12V30 AV | H15: =CONCATENATE("Runtime ",H13) -> Runtime Edge 12V75 | I15: =CONCATENATE("Runtime ",I13) -> Runtime Edge 12V105 | J15: =CONCATENATE("Runtime ",J13) -> Runtime Edge 12V210 | K15: =CONCATENATE("Runtime ",K13) -> Runtime 12V80 PRO | L15: =CONCATENATE("Runtime ",L13) -> Runtime 12V120 PRO
B16: =IF($B$15="% on the Throttle","20%","Gear 1") -> 20% | C16: =IFERROR(VLOOKUP($B$13,Validation!B:M,8,FALSE),"") -> 2 | D16: =IFERROR(VLOOKUP($B$13,Validation!B:M,3,FALSE),"") -> 24 | E16: =IFERROR(E$14/$D16,"") -> 3.625 | F16: =IFERROR(F$14/$D16,"") -> 8.2916667 | G16: =IFERROR(G$14/$D16,"") -> 13.458333 | H16: =IFERROR(H$14/$D16,"") -> 40 | I16: =IFERROR(I$14/$D16,"") -> 55.833333 | J16: =IFERROR(J$14/$D16,"") -> 112.08333 | K16: =IFERROR(K$14/$D16,"") -> 41.75 | L16: =IFERROR(L$14/$D16,"") -> 64.166667
B17: =IF($B$15="% on the Throttle","40%","Gear 2") -> 40% | C17: =IFERROR(VLOOKUP($B$13,Validation!B:M,9,FALSE),"") -> 7 | D17: =IFERROR(VLOOKUP($B$13,Validation!B:M,4,FALSE),"") -> 84 | E17: =IFERROR(E$14/$D17,"") -> 1.0357143 | F17: =IFERROR(F$14/$D17,"") -> 2.3690476 | G17: =IFERROR(G$14/$D17,"") -> 3.8452381 | H17: =IFERROR(H$14/$D17,"") -> 11.428571 | I17: =IFERROR(I$14/$D17,"") -> 15.952381 | J17: =IFERROR(J$14/$D17,"") -> 32.02381 | K17: =IFERROR(K$14/$D17,"") -> 11.928571 | L17: =IFERROR(L$14/$D17,"") -> 18.333333
B18: =IF($B$15="% on the Throttle","60%","Gear 3") -> 60% | C18: =IFERROR(VLOOKUP($B$13,Validation!B:M,10,FALSE),"") -> 17 | D18: =IFERROR(VLOOKUP($B$13,Validation!B:M,5,FALSE),"") -> 204 | E18: =IFERROR(E$14/$D18,"") -> 0.42647059 | F18: =IFERROR(F$14/$D18,"") -> 0.9754902 | G18: =IFERROR(G$14/$D18,"") -> 1.5833333 | H18: =IFERROR(H$14/$D18,"") -> 4.7058824 | I18: =IFERROR(I$14/$D18,"") -> 6.5686275 | J18: =IFERROR(J$14/$D18,"") -> 13.186275 | K18: =IFERROR(K$14/$D18,"") -> 4.9117647 | L18: =IFERROR(L$14/$D18,"") -> 7.5490196
B19: =IF($B$15="% on the Throttle","80%","Gear 4") -> 80% | C19: =IFERROR(VLOOKUP($B$13,Validation!B:M,11,FALSE),"") -> 33 | D19: =IFERROR(VLOOKUP($B$13,Validation!B:M,6,FALSE),"") -> 396 | E19: =IFERROR(E$14/$D19,"") -> 0.21969697 | F19: =IFERROR(F$14/$D19,"") -> 0.50252525 | G19: =IFERROR(G$14/$D19,"") -> 0.81565657 | H19: =IFERROR(H$14/$D19,"") -> 2.4242424 | I19: =IFERROR(I$14/$D19,"") -> 3.3838384 | J19: =IFERROR(J$14/$D19,"") -> 6.7929293 | K19: =IFERROR(K$14/$D19,"") -> 2.530303 | L19: =IFERROR(L$14/$D19,"") -> 3.8888889
B20: =IF($B$15="% on the Throttle","100%","Gear 5") -> 100% | C20: =IFERROR(VLOOKUP($B$13,Validation!B:M,12,FALSE),"") -> 46 | D20: =IFERROR(VLOOKUP($B$13,Validation!B:M,7,FALSE),"") -> 552 | E20: =IFERROR(E$14/$D20,"") -> 0.1576087 | F20: =IFERROR(F$14/$D20,"") -> 0.36050725 | G20: =IFERROR(G$14/$D20,"") -> 0.58514493 | H20: =IFERROR(H$14/$D20,"") -> 1.7391304 | I20: =IFERROR(I$14/$D20,"") -> 2.4275362 | J20: =IFERROR(J$14/$D20,"") -> 4.8731884 | K20: =IFERROR(K$14/$D20,"") -> 1.8152174 | L20: =IFERROR(L$14/$D20,"") -> 2.7898551

Sheet Validation
C1: 2 | D1: 3 | E1: 4 | F1: 5 | G1: 6 | H1: 7 | I1: 8 | J1: 9 | K1: 10 | L1: 11 | M1: 12 | O1: Taal
C2: Gear / Throttle | D2: W: 1 / 20% | E2: W: 2 / 40% | F2: W: 3 / 60% | G2: W: 4 / 80% | H2: W: 5 / 100% | I2: A: 1 / 20% | J2: A: 2 / 40% | K2: A: 3 / 60% | L2: A: 4 / 80% | M2: A: 5 / 100% | O2: NL
O3: EN
B4: Minn Kota endura c2 30 | C4: Gear | D4: 96 | E4: 120 | F4: 168 | G4: 204 | H4: 372 | I4: 8 | J4: 10 | K4: 14 | L4: 17 | M4: 31 | O4: DE
B5: Minn Kota endura c2 34 | C5: Gear | D5: 105.29032 | E5: 131.6129 | F5: 184.25806 | G5: 223.74194 | H5: 408 | I5: 8.7741935 | J5: 10.967742 | K5: 15.354839 | L5: 18.645161 | M5: 34
B6: Minn Kota endura c2 40 | C6: Gear | D6: 117.67742 | E6: 147.09677 | F6: 205.93548 | G6: 250.06452 | H6: 456 | I6: 9.8064516 | J6: 12.258065 | K6: 17.16129 | L6: 20.83871 | M6: 38
B7: Minn Kota endura c2 45 | C7: Gear | D7: 130.06452 | E7: 162.58065 | F7: 227.6129 | G7: 276.3871 | H7: 504 | I7: 10.83871 | J7: 13.548387 | K7: 18.967742 | L7: 23.032258 | M7: 42
B8: Minn Kota endura c2 50 | C8: Gear | D8: 142.45161 | E8: 178.06452 | F8: 249.29032 | G8: 302.70968 | H8: 552 | I8: 11.870968 | J8: 14.83871 | K8: 20.774194 | L8: 25.225806 | M8: 46
B9: Minn Kota endura c2 55 | C9: Gear | D9: 154.83871 | E9: 193.54839 | F9: 270.96774 | G9: 329.03226 | H9: 600 | I9: 12.903226 | J9: 16.129032 | K9: 22.580645 | L9: 27.419355 | M9: 50
B10: Minn Kota endura MAX 40 | C10: % on the Throttle | D10: 19.826087 | E10: 69.391304 | F10: 168.52174 | G10: 327.13043 | H10: 456 | I10: 1.6521739 | J10: 5.7826087 | K10: 14.043478 | L10: 27.26087 | M10: 38
B11: Minn Kota endura MAX 45 | C11: % on the Throttle | D11: 20.869565 | E11: 73.043478 | F11: 177.3913 | G11: 344.34783 | H11: 480 | I11: 1.7391304 | J11: 6.0869565 | K11: 14.782609 | L11: 28.695652 | M11: 40
B12: Minn Kota endura MAX 50 | C12: % on the Throttle | D12: 22.956522 | E12: 80.347826 | F12: 195.13043 | G12: 378.78261 | H12: 528 | I12: 1.9130435 | J12: 6.6956522 | K12: 16.26087 | L12: 31.565217 | M12: 44
B13: Minn Kota endura MAX 55 | C13: % on the Throttle | D13: 24 | E13: 84 | F13: 204 | G13: 396 | H13: 552 | I13: 2 | J13: 7 | K13: 17 | L13: 33 | M13: 46
B14: Talamex tm 30 | C14: Gear | D14: 48 | E14: 108 | F14: 168 | G14: 228 | H14: 288 | I14: 4 | J14: 9 | K14: 14 | L14: 19 | M14: 24
B15: Talamex tm 40 | C15: Gear | D15: 72 | E15: 156 | F15: 240 | G15: 312 | H15: 408 | I15: 6 | J15: 13 | K15: 20 | L15: 26 | M15: 34
B16: Talamex tm 48 | C16: Gear | D16: 96 | E16: 192 | F16: 300 | G16: 384 | H16: 480 | I16: 8 | J16: 16 | K16: 25 | L16: 32 | M16: 40
... B18: Haswing Osapian 55 | C18: Gear | D18: 132 | E18: 156 | F18: 252 | G18: 288 | H18: 516 | I18: 11 | J18: 13 | K18: 21 | L18: 24 | M18: 43
